BEGIN:VCALENDAR
VERSION:2.0
PRODID:-//Saint Maron Church - ECPv6.15.20//NONSGML v1.0//EN
CALSCALE:GREGORIAN
METHOD:PUBLISH
X-WR-CALNAME:Saint Maron Church
X-ORIGINAL-URL:https://saintmaroncleveland.org
X-WR-CALDESC:Events for Saint Maron Church
REFRESH-INTERVAL;VALUE=DURATION:PT1H
X-Robots-Tag:noindex
X-PUBLISHED-TTL:PT1H
BEGIN:VTIMEZONE
TZID:America/New_York
BEGIN:DAYLIGHT
TZOFFSETFROM:-0500
TZOFFSETTO:-0400
TZNAME:EDT
DTSTART:20240310T070000
END:DAYLIGHT
BEGIN:STANDARD
TZOFFSETFROM:-0400
TZOFFSETTO:-0500
TZNAME:EST
DTSTART:20241103T060000
END:STANDARD
BEGIN:DAYLIGHT
TZOFFSETFROM:-0500
TZOFFSETTO:-0400
TZNAME:EDT
DTSTART:20250309T070000
END:DAYLIGHT
BEGIN:STANDARD
TZOFFSETFROM:-0400
TZOFFSETTO:-0500
TZNAME:EST
DTSTART:20251102T060000
END:STANDARD
BEGIN:DAYLIGHT
TZOFFSETFROM:-0500
TZOFFSETTO:-0400
TZNAME:EDT
DTSTART:20260308T070000
END:DAYLIGHT
BEGIN:STANDARD
TZOFFSETFROM:-0400
TZOFFSETTO:-0500
TZNAME:EST
DTSTART:20261101T060000
END:STANDARD
END:VTIMEZONE
BEGIN:VEVENT
DTSTART;TZID=America/New_York:20251218T180000
DTEND;TZID=America/New_York:20251218T180000
DTSTAMP:20260420T000549
CREATED:20250908T202201Z
LAST-MODIFIED:20250910T213003Z
UID:5168-1766080800-1766080800@saintmaroncleveland.org
SUMMARY:Divine Liturgy
DESCRIPTION:Location: Chapel – Independence
URL:https://saintmaroncleveland.org/event/divine-liturgy-74/
LOCATION:OH
CATEGORIES:Divine Liturgy
END:VEVENT
BEGIN:VEVENT
DTSTART;VALUE=DATE:20251218
DTEND;VALUE=DATE:20251220
DTSTAMP:20260420T000549
CREATED:20250908T202657Z
LAST-MODIFIED:20250910T205958Z
UID:5244-1766016000-1766113199@saintmaroncleveland.org
SUMMARY:Daniel the Prophet
DESCRIPTION:Feast Day
URL:https://saintmaroncleveland.org/event/daniel-the-prophet/
LOCATION:OH
CATEGORIES:Feast Day
END:VEVENT
BEGIN:VEVENT
DTSTART;TZID=America/New_York:20251217T180000
DTEND;TZID=America/New_York:20251217T190000
DTSTAMP:20260420T000549
CREATED:20251212T153704Z
LAST-MODIFIED:20251212T153704Z
UID:6077-1765994400-1765998000@saintmaroncleveland.org
SUMMARY:Christmas Novena
DESCRIPTION:6:00pm – Independence
URL:https://saintmaroncleveland.org/event/christmas-novena-3/
LOCATION:St. Maron Chapel – Independence\, 7800 Brookside Rd\, Independence\, OH\, 44131\, United States
END:VEVENT
BEGIN:VEVENT
DTSTART;TZID=America/New_York:20251217T180000
DTEND;TZID=America/New_York:20251217T180000
DTSTAMP:20260420T000549
CREATED:20250908T202147Z
LAST-MODIFIED:20250910T214703Z
UID:5167-1765994400-1765994400@saintmaroncleveland.org
SUMMARY:Divine Liturgy
DESCRIPTION:Location: Chapel – Independence
URL:https://saintmaroncleveland.org/event/divine-liturgy-73/
LOCATION:OH
CATEGORIES:Divine Liturgy
END:VEVENT
BEGIN:VEVENT
DTSTART;TZID=America/New_York:20251216T180000
DTEND;TZID=America/New_York:20251216T190000
DTSTAMP:20260420T000549
CREATED:20251212T153635Z
LAST-MODIFIED:20251212T153635Z
UID:6075-1765908000-1765911600@saintmaroncleveland.org
SUMMARY:Christmas Novena
DESCRIPTION:6:00pm – Independence
URL:https://saintmaroncleveland.org/event/christmas-novena-2/
LOCATION:St. Maron Chapel – Independence\, 7800 Brookside Rd\, Independence\, OH\, 44131\, United States
END:VEVENT
BEGIN:VEVENT
DTSTART;TZID=America/New_York:20251216T180000
DTEND;TZID=America/New_York:20251216T180000
DTSTAMP:20260420T000549
CREATED:20250908T202147Z
LAST-MODIFIED:20250910T213022Z
UID:5166-1765908000-1765908000@saintmaroncleveland.org
SUMMARY:Divine Liturgy
DESCRIPTION:Location: Chapel – Independence
URL:https://saintmaroncleveland.org/event/divine-liturgy-72/
LOCATION:OH
CATEGORIES:Divine Liturgy
END:VEVENT
BEGIN:VEVENT
DTSTART;VALUE=DATE:20251216
DTEND;VALUE=DATE:20251218
DTSTAMP:20260420T000549
CREATED:20250908T202657Z
LAST-MODIFIED:20250910T205958Z
UID:5243-1765843200-1765940399@saintmaroncleveland.org
SUMMARY:Haggai the Prophet
DESCRIPTION:Feast Day
URL:https://saintmaroncleveland.org/event/haggai-the-prophet/
LOCATION:OH
CATEGORIES:Feast Day
END:VEVENT
BEGIN:VEVENT
DTSTART;TZID=America/New_York:20251215T180000
DTEND;TZID=America/New_York:20251215T190000
DTSTAMP:20260420T000549
CREATED:20251212T153540Z
LAST-MODIFIED:20251212T153550Z
UID:6073-1765821600-1765825200@saintmaroncleveland.org
SUMMARY:Christmas Novena
DESCRIPTION:6:00pm – Independence
URL:https://saintmaroncleveland.org/event/christmas-novena/
LOCATION:St. Maron Chapel – Independence\, 7800 Brookside Rd\, Independence\, OH\, 44131\, United States
END:VEVENT
BEGIN:VEVENT
DTSTART;TZID=America/New_York:20251214T110000
DTEND;TZID=America/New_York:20251214T120000
DTSTAMP:20260420T000549
CREATED:20250910T205414Z
LAST-MODIFIED:20250910T205414Z
UID:5633-1765710000-1765713600@saintmaroncleveland.org
SUMMARY:Revelation to Joseph
DESCRIPTION:Location: Downtown
URL:https://saintmaroncleveland.org/event/revelation-to-joseph-3/
LOCATION:OH
CATEGORIES:Divine Liturgy
END:VEVENT
BEGIN:VEVENT
DTSTART;TZID=America/New_York:20251214T093000
DTEND;TZID=America/New_York:20251214T103000
DTSTAMP:20260420T000549
CREATED:20250910T205410Z
LAST-MODIFIED:20250910T205410Z
UID:5629-1765704600-1765708200@saintmaroncleveland.org
SUMMARY:Revelation to Joseph
DESCRIPTION:Location: Downtown
URL:https://saintmaroncleveland.org/event/revelation-to-joseph-2/
LOCATION:OH
CATEGORIES:Divine Liturgy
END:VEVENT
BEGIN:VEVENT
DTSTART;VALUE=DATE:20251214
DTEND;VALUE=DATE:20251216
DTSTAMP:20260420T000549
CREATED:20250910T205941Z
LAST-MODIFIED:20250910T205941Z
UID:5690-1765670400-1765767599@saintmaroncleveland.org
SUMMARY:St. Nemtallah El-Hardini
DESCRIPTION:Feast Day
URL:https://saintmaroncleveland.org/event/st-nemtallah-el-hardini/
LOCATION:OH
CATEGORIES:Feast Day
END:VEVENT
BEGIN:VEVENT
DTSTART;TZID=America/New_York:20251214T000000
DTEND;TZID=America/New_York:20251214T000000
DTSTAMP:20260420T000549
CREATED:20250908T203025Z
LAST-MODIFIED:20251006T193033Z
UID:5274-1765670400-1765670400@saintmaroncleveland.org
SUMMARY:Christmas Luncheon
DESCRIPTION:Christmas Luncheon
URL:https://saintmaroncleveland.org/event/christmas-luncheon/
LOCATION:OH
CATEGORIES:Ministries & Events,Social
END:VEVENT
BEGIN:VEVENT
DTSTART;TZID=America/New_York:20251213T170000
DTEND;TZID=America/New_York:20251213T210000
DTSTAMP:20260420T000549
CREATED:20251013T181319Z
LAST-MODIFIED:20251013T181343Z
UID:5969-1765645200-1765659600@saintmaroncleveland.org
SUMMARY:MYO Christmas Party
DESCRIPTION:5:00-9:00pm at the Parish Center in Independence
URL:https://saintmaroncleveland.org/event/myo-christmas-party/
LOCATION:OH
CATEGORIES:Ministries & Events,MYO
END:VEVENT
BEGIN:VEVENT
DTSTART;TZID=America/New_York:20251213T170000
DTEND;TZID=America/New_York:20251213T180000
DTSTAMP:20260420T000549
CREATED:20250910T205409Z
LAST-MODIFIED:20250910T205409Z
UID:5628-1765645200-1765648800@saintmaroncleveland.org
SUMMARY:Revelation to Joseph
DESCRIPTION:Location: Chapel – Independence
URL:https://saintmaroncleveland.org/event/revelation-to-joseph/
LOCATION:OH
CATEGORIES:Divine Liturgy
END:VEVENT
BEGIN:VEVENT
DTSTART;TZID=America/New_York:20251213T100000
DTEND;TZID=America/New_York:20251213T120000
DTSTAMP:20260420T000549
CREATED:20251114T151323Z
LAST-MODIFIED:20251114T151323Z
UID:6030-1765620000-1765627200@saintmaroncleveland.org
SUMMARY:Language Classes
DESCRIPTION:Arabic\, Syriac\, and English Language Classes
URL:https://saintmaroncleveland.org/event/language-classes-2-2-2-2/
LOCATION:St. Maron Church Downtown\, 1245 Carnegie Ave\, Cleveland\, Ohio\, 44115
END:VEVENT
BEGIN:VEVENT
DTSTART;TZID=America/New_York:20251211T180000
DTEND;TZID=America/New_York:20251211T180000
DTSTAMP:20260420T000549
CREATED:20250908T202147Z
LAST-MODIFIED:20250910T213045Z
UID:5165-1765476000-1765476000@saintmaroncleveland.org
SUMMARY:Divine Liturgy
DESCRIPTION:Location: Chapel – Independence
URL:https://saintmaroncleveland.org/event/divine-liturgy-71/
LOCATION:OH
CATEGORIES:Divine Liturgy
END:VEVENT
BEGIN:VEVENT
DTSTART;TZID=America/New_York:20251210T180000
DTEND;TZID=America/New_York:20251210T180000
DTSTAMP:20260420T000549
CREATED:20250908T202146Z
LAST-MODIFIED:20250910T214651Z
UID:5164-1765389600-1765389600@saintmaroncleveland.org
SUMMARY:Divine Liturgy
DESCRIPTION:Location: Chapel – Independence
URL:https://saintmaroncleveland.org/event/divine-liturgy-70/
LOCATION:OH
CATEGORIES:Divine Liturgy
END:VEVENT
BEGIN:VEVENT
DTSTART;TZID=America/New_York:20251209T180000
DTEND;TZID=America/New_York:20251209T190000
DTSTAMP:20260420T000549
CREATED:20251114T155616Z
LAST-MODIFIED:20251114T183910Z
UID:6056-1765303200-1765306800@saintmaroncleveland.org
SUMMARY:ABC's of Charitable Giving Presentation
DESCRIPTION:Join us for an educational session to learn the most tax-efficient strategies of giving! \nHosted by lifelong parishioner and Financial Advisor\, Rick Ganim\, CPA. \nLocation: The Oak Barrel – Dinner Provided \nLink to RSVP: https://forms.gle/bsDoXaWNneUXRA3G9
URL:https://saintmaroncleveland.org/event/abcs-of-charitable-giving-presentation/
LOCATION:The Oak Barrel\, 5975 Canal Rd\, Valley View\, OH\, 44125
CATEGORIES:Social
END:VEVENT
BEGIN:VEVENT
DTSTART;TZID=America/New_York:20251209T180000
DTEND;TZID=America/New_York:20251209T180000
DTSTAMP:20260420T000549
CREATED:20250908T202146Z
LAST-MODIFIED:20250910T213059Z
UID:5163-1765303200-1765303200@saintmaroncleveland.org
SUMMARY:Divine Liturgy
DESCRIPTION:Location: Chapel – Independence
URL:https://saintmaroncleveland.org/event/divine-liturgy-69/
LOCATION:OH
CATEGORIES:Divine Liturgy
END:VEVENT
BEGIN:VEVENT
DTSTART;VALUE=DATE:20251208
DTEND;VALUE=DATE:20251209
DTSTAMP:20260420T000549
CREATED:20250910T205941Z
LAST-MODIFIED:20251007T155450Z
UID:5689-1765152000-1765238399@saintmaroncleveland.org
SUMMARY:Immaculate Conception
DESCRIPTION:Feast Day
URL:https://saintmaroncleveland.org/event/immaculate-conception/
LOCATION:OH
CATEGORIES:Feast Day
END:VEVENT
BEGIN:VEVENT
DTSTART;TZID=America/New_York:20251207T130000
DTEND;TZID=America/New_York:20251207T140000
DTSTAMP:20260420T000549
CREATED:20250910T204934Z
LAST-MODIFIED:20251114T154145Z
UID:5574-1765112400-1765116000@saintmaroncleveland.org
SUMMARY:ICS Christmas Party
DESCRIPTION:Cost is $35 – Spouse Invited \nHilton Garden Inn: 1100 Carnegie Ave \nReservations will be taken following all liturgies or by contacting: \nNadia Daher: (216) 408-7671 OR Alya Essey: (440) 376-1478 \n 
URL:https://saintmaroncleveland.org/event/ics-3/
LOCATION:OH
CATEGORIES:Immaculate Conception Sodality,Ministries & Events
END:VEVENT
BEGIN:VEVENT
DTSTART;TZID=America/New_York:20251207T110000
DTEND;TZID=America/New_York:20251207T120000
DTSTAMP:20260420T000549
CREATED:20250910T205400Z
LAST-MODIFIED:20250910T205400Z
UID:5627-1765105200-1765108800@saintmaroncleveland.org
SUMMARY:Birth of John the Baptist
DESCRIPTION:Location: Downtown
URL:https://saintmaroncleveland.org/event/birth-of-john-the-baptist-3/
LOCATION:OH
CATEGORIES:Divine Liturgy
END:VEVENT
BEGIN:VEVENT
DTSTART;TZID=America/New_York:20251207T093000
DTEND;TZID=America/New_York:20251207T103000
DTSTAMP:20260420T000549
CREATED:20250910T205400Z
LAST-MODIFIED:20250910T205400Z
UID:5626-1765099800-1765103400@saintmaroncleveland.org
SUMMARY:Birth of John the Baptist
DESCRIPTION:Location: Downtown
URL:https://saintmaroncleveland.org/event/birth-of-john-the-baptist-2/
LOCATION:OH
CATEGORIES:Divine Liturgy
END:VEVENT
BEGIN:VEVENT
DTSTART;TZID=America/New_York:20251206T170000
DTEND;TZID=America/New_York:20251206T180000
DTSTAMP:20260420T000549
CREATED:20250910T205359Z
LAST-MODIFIED:20250910T205359Z
UID:5625-1765040400-1765044000@saintmaroncleveland.org
SUMMARY:Birth of John the Baptist
DESCRIPTION:Location: Chapel – Independence
URL:https://saintmaroncleveland.org/event/birth-of-john-the-baptist/
LOCATION:OH
CATEGORIES:Divine Liturgy
END:VEVENT
BEGIN:VEVENT
DTSTART;TZID=America/New_York:20251206T140000
DTEND;TZID=America/New_York:20251206T180000
DTSTAMP:20260420T000549
CREATED:20250908T202958Z
LAST-MODIFIED:20251013T181104Z
UID:5258-1765029600-1765044000@saintmaroncleveland.org
SUMMARY:MYO: Christmas Caroling at Regina’s Health Center
DESCRIPTION:2-6:00PM – Caroling at Regina’s\nLocation: Regina’s\, 5232 Broadview Road Richfield\, Ohio 44286
URL:https://saintmaroncleveland.org/event/myo-meeting-4/
LOCATION:OH
CATEGORIES:Ministries & Events,MYO
END:VEVENT
BEGIN:VEVENT
DTSTART;TZID=America/New_York:20251206T100000
DTEND;TZID=America/New_York:20251206T120000
DTSTAMP:20260420T000549
CREATED:20251114T151258Z
LAST-MODIFIED:20251114T151258Z
UID:6028-1765015200-1765022400@saintmaroncleveland.org
SUMMARY:Language Classes
DESCRIPTION:Arabic\, Syriac\, and English Language Classes
URL:https://saintmaroncleveland.org/event/language-classes-2-2-2/
LOCATION:St. Maron Church Downtown\, 1245 Carnegie Ave\, Cleveland\, Ohio\, 44115
END:VEVENT
BEGIN:VEVENT
DTSTART;VALUE=DATE:20251206
DTEND;VALUE=DATE:20251207
DTSTAMP:20260420T000549
CREATED:20250908T202649Z
LAST-MODIFIED:20251007T155428Z
UID:5241-1764979200-1765065599@saintmaroncleveland.org
SUMMARY:St. Nicholas
DESCRIPTION:Feast Day
URL:https://saintmaroncleveland.org/event/st-nicholas/
LOCATION:OH
CATEGORIES:Feast Day
END:VEVENT
BEGIN:VEVENT
DTSTART;VALUE=DATE:20251205
DTEND;VALUE=DATE:20251206
DTSTAMP:20260420T000549
CREATED:20250910T205941Z
LAST-MODIFIED:20251007T155411Z
UID:5687-1764892800-1764979199@saintmaroncleveland.org
SUMMARY:St. Saba
DESCRIPTION:Feast Day
URL:https://saintmaroncleveland.org/event/st-saba/
LOCATION:OH
CATEGORIES:Feast Day
END:VEVENT
BEGIN:VEVENT
DTSTART;TZID=America/New_York:20251204T180000
DTEND;TZID=America/New_York:20251204T180000
DTSTAMP:20260420T000549
CREATED:20250908T202132Z
LAST-MODIFIED:20250910T214638Z
UID:5162-1764871200-1764871200@saintmaroncleveland.org
SUMMARY:Divine Liturgy
DESCRIPTION:Location: Chapel – Independence
URL:https://saintmaroncleveland.org/event/divine-liturgy-68/
LOCATION:OH
CATEGORIES:Divine Liturgy
END:VEVENT
BEGIN:VEVENT
DTSTART;VALUE=DATE:20251204
DTEND;VALUE=DATE:20251205
DTSTAMP:20260420T000549
CREATED:20250908T202649Z
LAST-MODIFIED:20251007T155356Z
UID:5239-1764806400-1764892799@saintmaroncleveland.org
SUMMARY:St. Barbara
DESCRIPTION:Feast Day
URL:https://saintmaroncleveland.org/event/st-barbara/
LOCATION:OH
CATEGORIES:Feast Day
END:VEVENT
END:VCALENDAR