BEGIN:VCALENDAR
VERSION:2.0
PRODID:-//Saint Maron Church - ECPv6.15.20//NONSGML v1.0//EN
CALSCALE:GREGORIAN
METHOD:PUBLISH
X-WR-CALNAME:Saint Maron Church
X-ORIGINAL-URL:https://saintmaroncleveland.org
X-WR-CALDESC:Events for Saint Maron Church
REFRESH-INTERVAL;VALUE=DURATION:PT1H
X-Robots-Tag:noindex
X-PUBLISHED-TTL:PT1H
BEGIN:VTIMEZONE
TZID:America/New_York
BEGIN:DAYLIGHT
TZOFFSETFROM:-0500
TZOFFSETTO:-0400
TZNAME:EDT
DTSTART:20240310T070000
END:DAYLIGHT
BEGIN:STANDARD
TZOFFSETFROM:-0400
TZOFFSETTO:-0500
TZNAME:EST
DTSTART:20241103T060000
END:STANDARD
BEGIN:DAYLIGHT
TZOFFSETFROM:-0500
TZOFFSETTO:-0400
TZNAME:EDT
DTSTART:20250309T070000
END:DAYLIGHT
BEGIN:STANDARD
TZOFFSETFROM:-0400
TZOFFSETTO:-0500
TZNAME:EST
DTSTART:20251102T060000
END:STANDARD
BEGIN:DAYLIGHT
TZOFFSETFROM:-0500
TZOFFSETTO:-0400
TZNAME:EDT
DTSTART:20260308T070000
END:DAYLIGHT
BEGIN:STANDARD
TZOFFSETFROM:-0400
TZOFFSETTO:-0500
TZNAME:EST
DTSTART:20261101T060000
END:STANDARD
BEGIN:DAYLIGHT
TZOFFSETFROM:-0500
TZOFFSETTO:-0400
TZNAME:EDT
DTSTART:20270314T070000
END:DAYLIGHT
BEGIN:STANDARD
TZOFFSETFROM:-0400
TZOFFSETTO:-0500
TZNAME:EST
DTSTART:20271107T060000
END:STANDARD
END:VTIMEZONE
BEGIN:VEVENT
DTSTART;TZID=America/New_York:20260106T100000
DTEND;TZID=America/New_York:20260106T110000
DTSTAMP:20260419T184921
CREATED:20251229T190230Z
LAST-MODIFIED:20251229T190230Z
UID:6321-1767693600-1767697200@saintmaroncleveland.org
SUMMARY:Divine Liturgy: Feast of the Epiphany - Independence
DESCRIPTION:10:00 a.m. Divine Liturgy at the Chapel — Independence
URL:https://saintmaroncleveland.org/event/divine-liturgy-feast-of-the-epiphany-independence/
LOCATION:St. Maron Chapel – Independence\, 7800 Brookside Rd\, Independence\, OH\, 44131\, United States
CATEGORIES:Divine Liturgy,Feast Day
END:VEVENT
BEGIN:VEVENT
DTSTART;VALUE=DATE:20260106
DTEND;VALUE=DATE:20260107
DTSTAMP:20260419T184921
CREATED:20251222T154031Z
LAST-MODIFIED:20251222T154057Z
UID:6142-1767657600-1767743999@saintmaroncleveland.org
SUMMARY:Feast of the Glorious Epiphany
DESCRIPTION:
URL:https://saintmaroncleveland.org/event/feast-of-the-glorious-epiphany/
CATEGORIES:Feast Day
END:VEVENT
BEGIN:VEVENT
DTSTART;VALUE=DATE:20260105
DTEND;VALUE=DATE:20260106
DTSTAMP:20260419T184921
CREATED:20251222T154003Z
LAST-MODIFIED:20251222T154003Z
UID:6140-1767571200-1767657599@saintmaroncleveland.org
SUMMARY:Vigil of the Glorious Epiphany
DESCRIPTION:
URL:https://saintmaroncleveland.org/event/vigil-of-the-glorious-epiphany/
CATEGORIES:Feast Day
END:VEVENT
BEGIN:VEVENT
DTSTART;TZID=America/New_York:20260104T110000
DTEND;TZID=America/New_York:20260104T120000
DTSTAMP:20260419T184921
CREATED:20251222T150033Z
LAST-MODIFIED:20251222T150033Z
UID:6138-1767524400-1767528000@saintmaroncleveland.org
SUMMARY:Divine Liturgy: The Finding of Our Lord in the Temple - Downtown
DESCRIPTION:
URL:https://saintmaroncleveland.org/event/liturgy-the-finding-of-our-lord-in-the-temple-2-2/
LOCATION:St. Maron Church Downtown\, 1245 Carnegie Ave\, Cleveland\, Ohio\, 44115
CATEGORIES:Divine Liturgy
END:VEVENT
BEGIN:VEVENT
DTSTART;TZID=America/New_York:20260104T093000
DTEND;TZID=America/New_York:20260104T103000
DTSTAMP:20260419T184921
CREATED:20251222T145844Z
LAST-MODIFIED:20251222T150013Z
UID:6133-1767519000-1767522600@saintmaroncleveland.org
SUMMARY:Divine Liturgy: The Finding of Our Lord in the Temple - Downtown
DESCRIPTION:Location: Downtown
URL:https://saintmaroncleveland.org/event/liturgy-the-finding-of-our-lord-in-the-temple-2/
LOCATION:St. Maron Church Downtown\, 1245 Carnegie Ave\, Cleveland\, Ohio\, 44115
CATEGORIES:Divine Liturgy
END:VEVENT
BEGIN:VEVENT
DTSTART;TZID=America/New_York:20260103T170000
DTEND;TZID=America/New_York:20260103T180000
DTSTAMP:20260419T184921
CREATED:20251222T140648Z
LAST-MODIFIED:20251222T150001Z
UID:6129-1767459600-1767463200@saintmaroncleveland.org
SUMMARY:Divine Liturgy: The Finding of Our Lord in the Temple - Independence
DESCRIPTION:Divine Liturgy: 6PM
URL:https://saintmaroncleveland.org/event/liturgy-the-finding-of-our-lord-in-the-temple/
LOCATION:St. Maron Chapel – Independence\, 7800 Brookside Rd\, Independence\, OH\, 44131\, United States
CATEGORIES:Divine Liturgy
END:VEVENT
BEGIN:VEVENT
DTSTART;TZID=America/New_York:20260101T180000
DTEND;TZID=America/New_York:20260101T180000
DTSTAMP:20260419T184921
CREATED:20250908T202203Z
LAST-MODIFIED:20251229T184017Z
UID:5172-1767290400-1767290400@saintmaroncleveland.org
SUMMARY:Divine Liturgy: The Circumcision of Jesus
DESCRIPTION:Location: Chapel – Independence\n6:00 PM
URL:https://saintmaroncleveland.org/event/divine-liturgy-78/
CATEGORIES:Divine Liturgy
END:VEVENT
BEGIN:VEVENT
DTSTART;VALUE=DATE:20260101
DTEND;VALUE=DATE:20260102
DTSTAMP:20260419T184921
CREATED:20251221T154121Z
LAST-MODIFIED:20251221T154121Z
UID:6117-1767225600-1767311999@saintmaroncleveland.org
SUMMARY:Feasts of Sts. Basil and Gregory\, Doctors of the Church
DESCRIPTION:
URL:https://saintmaroncleveland.org/event/feasts-of-sts-basil-and-gregory-doctors-of-the-church/
END:VEVENT
BEGIN:VEVENT
DTSTART;VALUE=DATE:20260101
DTEND;VALUE=DATE:20260102
DTSTAMP:20260419T184921
CREATED:20251221T154038Z
LAST-MODIFIED:20251221T154038Z
UID:6115-1767225600-1767311999@saintmaroncleveland.org
SUMMARY:New Year's Day
DESCRIPTION:
URL:https://saintmaroncleveland.org/event/new-years-day-2/
CATEGORIES:Holiday
END:VEVENT
BEGIN:VEVENT
DTSTART;TZID=America/New_York:20251231T203000
DTEND;TZID=America/New_York:20251231T203000
DTSTAMP:20260419T184921
CREATED:20251229T185607Z
LAST-MODIFIED:20251229T185703Z
UID:6318-1767213000-1767213000@saintmaroncleveland.org
SUMMARY:New Years Party - Oak Barrel
DESCRIPTION:
URL:https://saintmaroncleveland.org/event/new-years-eve-party-oak-barrel/
LOCATION:The Oak Barrel\, 5975 Canal Rd\, Valley View\, OH\, 44125
CATEGORIES:Ministries & Events
END:VEVENT
BEGIN:VEVENT
DTSTART;VALUE=DATE:20251231
DTEND;VALUE=DATE:20260101
DTSTAMP:20260419T184921
CREATED:20250908T202704Z
LAST-MODIFIED:20251229T183632Z
UID:5249-1767139200-1767225599@saintmaroncleveland.org
SUMMARY:The Word Became Flesh
DESCRIPTION:
URL:https://saintmaroncleveland.org/event/the-word-became-flesh/
CATEGORIES:Feast Day
END:VEVENT
BEGIN:VEVENT
DTSTART;VALUE=DATE:20251230
DTEND;VALUE=DATE:20251231
DTSTAMP:20260419T184921
CREATED:20250908T202704Z
LAST-MODIFIED:20251222T135846Z
UID:5248-1767052800-1767139199@saintmaroncleveland.org
SUMMARY:The Return from Egypt to Nazareth
DESCRIPTION:Feast Day
URL:https://saintmaroncleveland.org/event/the-return-from-egypt-to-nazareth/
CATEGORIES:Feast Day
END:VEVENT
BEGIN:VEVENT
DTSTART;VALUE=DATE:20251229
DTEND;VALUE=DATE:20251230
DTSTAMP:20260419T184921
CREATED:20250908T202658Z
LAST-MODIFIED:20251221T154409Z
UID:5247-1766966400-1767052799@saintmaroncleveland.org
SUMMARY:The Flight into Egypt
DESCRIPTION:Feast Day
URL:https://saintmaroncleveland.org/event/the-flight-into-egypt/
CATEGORIES:Feast Day
END:VEVENT
BEGIN:VEVENT
DTSTART;TZID=America/New_York:20251228T110000
DTEND;TZID=America/New_York:20251228T120000
DTSTAMP:20260419T184921
CREATED:20250910T205427Z
LAST-MODIFIED:20251221T153241Z
UID:5641-1766919600-1766923200@saintmaroncleveland.org
SUMMARY:Liturgy: Sunday after the Glorious Birth of Our Lord
DESCRIPTION:Location: Downtown
URL:https://saintmaroncleveland.org/event/sunday-after-the-glorious-birth-of-our-lord-3/
CATEGORIES:Divine Liturgy
END:VEVENT
BEGIN:VEVENT
DTSTART;TZID=America/New_York:20251228T093000
DTEND;TZID=America/New_York:20251228T103000
DTSTAMP:20260419T184921
CREATED:20250910T205427Z
LAST-MODIFIED:20251221T153226Z
UID:5640-1766914200-1766917800@saintmaroncleveland.org
SUMMARY:Liturgy: Sunday after the Glorious Birth of Our Lord
DESCRIPTION:Location: Downtown
URL:https://saintmaroncleveland.org/event/sunday-after-the-glorious-birth-of-our-lord-2/
CATEGORIES:Divine Liturgy
END:VEVENT
BEGIN:VEVENT
DTSTART;TZID=America/New_York:20251227T170000
DTEND;TZID=America/New_York:20251227T180000
DTSTAMP:20260419T184921
CREATED:20250910T205427Z
LAST-MODIFIED:20251221T153204Z
UID:5639-1766854800-1766858400@saintmaroncleveland.org
SUMMARY:Liturgy: Sunday after the Glorious Birth of Our Lord
DESCRIPTION:Location: Chapel – Independence
URL:https://saintmaroncleveland.org/event/sunday-after-the-glorious-birth-of-our-lord/
CATEGORIES:Divine Liturgy
END:VEVENT
BEGIN:VEVENT
DTSTART;TZID=America/New_York:20251227T100000
DTEND;TZID=America/New_York:20251227T120000
DTSTAMP:20260419T184921
CREATED:20251114T151430Z
LAST-MODIFIED:20251114T151430Z
UID:6035-1766829600-1766836800@saintmaroncleveland.org
SUMMARY:Language Classes
DESCRIPTION:Arabic\, Syriac\, and English Language Classes
URL:https://saintmaroncleveland.org/event/language-classes-2-2-2-2-2-2/
LOCATION:St. Maron Church Downtown\, 1245 Carnegie Ave\, Cleveland\, Ohio\, 44115
END:VEVENT
BEGIN:VEVENT
DTSTART;VALUE=DATE:20251227
DTEND;VALUE=DATE:20251228
DTSTAMP:20260419T184921
CREATED:20250908T202657Z
LAST-MODIFIED:20251222T134722Z
UID:5246-1766793600-1766879999@saintmaroncleveland.org
SUMMARY:St. Stephen
DESCRIPTION:Feast Day
URL:https://saintmaroncleveland.org/event/st-stephen/
CATEGORIES:Feast Day
END:VEVENT
BEGIN:VEVENT
DTSTART;TZID=America/New_York:20251226T100000
DTEND;TZID=America/New_York:20251226T110000
DTSTAMP:20260419T184921
CREATED:20250910T205959Z
LAST-MODIFIED:20251222T135725Z
UID:5695-1766743200-1766746800@saintmaroncleveland.org
SUMMARY:Praises to the Mother of God Liturgy—Independence
DESCRIPTION:Liturgy 10:00 AM Independence
URL:https://saintmaroncleveland.org/event/praises-of-the-mother-of-god-2/
CATEGORIES:Divine Liturgy,Feast Day
END:VEVENT
BEGIN:VEVENT
DTSTART;TZID=America/New_York:20251225T110000
DTEND;TZID=America/New_York:20251225T120000
DTSTAMP:20260419T184921
CREATED:20251114T155002Z
LAST-MODIFIED:20251212T154442Z
UID:6054-1766660400-1766664000@saintmaroncleveland.org
SUMMARY:Nativity Feast Day Liturgy—Downtown
DESCRIPTION:Location: Downtown at 11 AM
URL:https://saintmaroncleveland.org/event/divine-liturgy-87-2-2/
LOCATION:St. Maron Church Downtown\, 1245 Carnegie Ave\, Cleveland\, Ohio\, 44115
CATEGORIES:Divine Liturgy
END:VEVENT
BEGIN:VEVENT
DTSTART;VALUE=DATE:20251225
DTEND;VALUE=DATE:20251226
DTSTAMP:20260419T184921
CREATED:20250910T205958Z
LAST-MODIFIED:20251222T135450Z
UID:5694-1766620800-1766707199@saintmaroncleveland.org
SUMMARY:The Glorious Birth of Our Lord
DESCRIPTION:Feast Day
URL:https://saintmaroncleveland.org/event/the-glorious-birth-of-our-lord/
CATEGORIES:Feast Day
END:VEVENT
BEGIN:VEVENT
DTSTART;TZID=America/New_York:20251225T000000
DTEND;TZID=America/New_York:20251225T010000
DTSTAMP:20260419T184921
CREATED:20251114T154851Z
LAST-MODIFIED:20251212T154351Z
UID:6051-1766620800-1766624400@saintmaroncleveland.org
SUMMARY:Nativity Midnight Liturgy—Downtown
DESCRIPTION:Location: Downtown at Midnight
URL:https://saintmaroncleveland.org/event/divine-liturgy-87-2/
LOCATION:St. Maron Church Downtown\, 1245 Carnegie Ave\, Cleveland\, Ohio\, 44115
CATEGORIES:Divine Liturgy
END:VEVENT
BEGIN:VEVENT
DTSTART;TZID=America/New_York:20251224T160000
DTEND;TZID=America/New_York:20251224T170000
DTSTAMP:20260419T184921
CREATED:20250910T205425Z
LAST-MODIFIED:20251212T154316Z
UID:5638-1766592000-1766595600@saintmaroncleveland.org
SUMMARY:Nativity Vigil Liturgy
DESCRIPTION:Location: Chapel – Independence at 4PM
URL:https://saintmaroncleveland.org/event/divine-liturgy-87/
LOCATION:St. Maron Chapel – Independence\, 7800 Brookside Rd\, Independence\, OH\, 44131\, United States
CATEGORIES:Divine Liturgy
END:VEVENT
BEGIN:VEVENT
DTSTART;TZID=America/New_York:20251223T180000
DTEND;TZID=America/New_York:20251223T190000
DTSTAMP:20260419T184921
CREATED:20251212T154154Z
LAST-MODIFIED:20251212T154154Z
UID:6086-1766512800-1766516400@saintmaroncleveland.org
SUMMARY:Christmas Novena
DESCRIPTION:6:00pm – Independence
URL:https://saintmaroncleveland.org/event/christmas-novena-2-3-3/
LOCATION:St. Maron Chapel – Independence\, 7800 Brookside Rd\, Independence\, OH\, 44131\, United States
END:VEVENT
BEGIN:VEVENT
DTSTART;TZID=America/New_York:20251223T180000
DTEND;TZID=America/New_York:20251223T180000
DTSTAMP:20260419T184921
CREATED:20250908T202202Z
LAST-MODIFIED:20250910T214716Z
UID:5169-1766512800-1766512800@saintmaroncleveland.org
SUMMARY:Divine Liturgy
DESCRIPTION:Location: Chapel – Independence
URL:https://saintmaroncleveland.org/event/divine-liturgy-75/
CATEGORIES:Divine Liturgy
END:VEVENT
BEGIN:VEVENT
DTSTART;TZID=America/New_York:20251222T183000
DTEND;TZID=America/New_York:20251222T193000
DTSTAMP:20260419T184921
CREATED:20251222T135027Z
LAST-MODIFIED:20251222T135347Z
UID:6119-1766428200-1766431800@saintmaroncleveland.org
SUMMARY:St. Sharbel Liturgy
DESCRIPTION:Following 6PM Christmas Novena\nLiturgy begins at 6:30PM
URL:https://saintmaroncleveland.org/event/st-sharbel-liturgy-4/
END:VEVENT
BEGIN:VEVENT
DTSTART;TZID=America/New_York:20251222T180000
DTEND;TZID=America/New_York:20251222T190000
DTSTAMP:20260419T184921
CREATED:20251212T154128Z
LAST-MODIFIED:20251212T154128Z
UID:6084-1766426400-1766430000@saintmaroncleveland.org
SUMMARY:Christmas Novena
DESCRIPTION:6:00pm – Independence
URL:https://saintmaroncleveland.org/event/christmas-novena-2-3-2/
LOCATION:St. Maron Chapel – Independence\, 7800 Brookside Rd\, Independence\, OH\, 44131\, United States
END:VEVENT
BEGIN:VEVENT
DTSTART;TZID=America/New_York:20251221T110000
DTEND;TZID=America/New_York:20251221T120000
DTSTAMP:20260419T184921
CREATED:20250910T205425Z
LAST-MODIFIED:20250910T205425Z
UID:5636-1766314800-1766318400@saintmaroncleveland.org
SUMMARY:Genealogy Sunday
DESCRIPTION:Location: Downtown
URL:https://saintmaroncleveland.org/event/genealogy-sunday-3/
CATEGORIES:Divine Liturgy
END:VEVENT
BEGIN:VEVENT
DTSTART;TZID=America/New_York:20251221T093000
DTEND;TZID=America/New_York:20251221T103000
DTSTAMP:20260419T184921
CREATED:20250910T205424Z
LAST-MODIFIED:20250910T205424Z
UID:5635-1766309400-1766313000@saintmaroncleveland.org
SUMMARY:Genealogy Sunday
DESCRIPTION:Location: Downtown
URL:https://saintmaroncleveland.org/event/genealogy-sunday-2/
CATEGORIES:Divine Liturgy
END:VEVENT
BEGIN:VEVENT
DTSTART;TZID=America/New_York:20251221T080000
DTEND;TZID=America/New_York:20251221T170000
DTSTAMP:20260419T184921
CREATED:20251221T154002Z
LAST-MODIFIED:20251221T154002Z
UID:6113-1766304000-1766336400@saintmaroncleveland.org
SUMMARY:Divine Liturgy: The Circumcision of Jesus
DESCRIPTION:Divine Liturgy: 6:00pm – Independence
URL:https://saintmaroncleveland.org/event/divine-liturgy-the-circumcision-of-jesus/
LOCATION:St. Maron Chapel – Independence\, 7800 Brookside Rd\, Independence\, OH\, 44131\, United States
CATEGORIES:Divine Liturgy,Feast Day
END:VEVENT
END:VCALENDAR