BEGIN:VCALENDAR
VERSION:2.0
PRODID:-//Saint Maron Church - ECPv6.15.20//NONSGML v1.0//EN
CALSCALE:GREGORIAN
METHOD:PUBLISH
X-WR-CALNAME:Saint Maron Church
X-ORIGINAL-URL:https://saintmaroncleveland.org
X-WR-CALDESC:Events for Saint Maron Church
REFRESH-INTERVAL;VALUE=DURATION:PT1H
X-Robots-Tag:noindex
X-PUBLISHED-TTL:PT1H
BEGIN:VTIMEZONE
TZID:America/New_York
BEGIN:DAYLIGHT
TZOFFSETFROM:-0500
TZOFFSETTO:-0400
TZNAME:EDT
DTSTART:20240310T070000
END:DAYLIGHT
BEGIN:STANDARD
TZOFFSETFROM:-0400
TZOFFSETTO:-0500
TZNAME:EST
DTSTART:20241103T060000
END:STANDARD
BEGIN:DAYLIGHT
TZOFFSETFROM:-0500
TZOFFSETTO:-0400
TZNAME:EDT
DTSTART:20250309T070000
END:DAYLIGHT
BEGIN:STANDARD
TZOFFSETFROM:-0400
TZOFFSETTO:-0500
TZNAME:EST
DTSTART:20251102T060000
END:STANDARD
BEGIN:DAYLIGHT
TZOFFSETFROM:-0500
TZOFFSETTO:-0400
TZNAME:EDT
DTSTART:20260308T070000
END:DAYLIGHT
BEGIN:STANDARD
TZOFFSETFROM:-0400
TZOFFSETTO:-0500
TZNAME:EST
DTSTART:20261101T060000
END:STANDARD
END:VTIMEZONE
BEGIN:VEVENT
DTSTART;VALUE=DATE:20250926
DTEND;VALUE=DATE:20250928
DTSTAMP:20260423T042617
CREATED:20250908T202606Z
LAST-MODIFIED:20250910T205751Z
UID:5217-1758844800-1758941999@saintmaroncleveland.org
SUMMARY:St. John the Evangelist
DESCRIPTION:Feast Day
URL:https://saintmaroncleveland.org/event/st-john-the-evangelist/
CATEGORIES:Feast Day
END:VEVENT
BEGIN:VEVENT
DTSTART;TZID=America/New_York:20250925T180000
DTEND;TZID=America/New_York:20250925T180000
DTSTAMP:20260423T042617
CREATED:20250908T201636Z
LAST-MODIFIED:20250910T213640Z
UID:5133-1758823200-1758823200@saintmaroncleveland.org
SUMMARY:Divine Liturgy
DESCRIPTION:Location: Chapel – Independence
URL:https://saintmaroncleveland.org/event/divine-liturgy-39/
CATEGORIES:Divine Liturgy
END:VEVENT
BEGIN:VEVENT
DTSTART;TZID=America/New_York:20250924T190000
DTEND;TZID=America/New_York:20250924T200000
DTSTAMP:20260423T042617
CREATED:20250910T204905Z
LAST-MODIFIED:20250910T204905Z
UID:5565-1758740400-1758744000@saintmaroncleveland.org
SUMMARY:Volunteer Appreciation Dinner
DESCRIPTION:An appreciation dinner held for the Summer Feast Volunteers at the Parish Center
URL:https://saintmaroncleveland.org/event/volunteer-appreciation-dinner/
CATEGORIES:Social
END:VEVENT
BEGIN:VEVENT
DTSTART;TZID=America/New_York:20250924T180000
DTEND;TZID=America/New_York:20250924T180000
DTSTAMP:20260423T042617
CREATED:20250908T201626Z
LAST-MODIFIED:20250910T212805Z
UID:5127-1758736800-1758736800@saintmaroncleveland.org
SUMMARY:Divine Liturgy
DESCRIPTION:Location: Chapel – Independence
URL:https://saintmaroncleveland.org/event/divine-liturgy-38/
CATEGORIES:Divine Liturgy
END:VEVENT
BEGIN:VEVENT
DTSTART;VALUE=DATE:20250924
DTEND;VALUE=DATE:20250926
DTSTAMP:20260423T042617
CREATED:20250908T202606Z
LAST-MODIFIED:20250910T205736Z
UID:5216-1758672000-1758769199@saintmaroncleveland.org
SUMMARY:St. Thecla
DESCRIPTION:Feast Day
URL:https://saintmaroncleveland.org/event/st-thecla/
CATEGORIES:Feast Day
END:VEVENT
BEGIN:VEVENT
DTSTART;TZID=America/New_York:20250923T180000
DTEND;TZID=America/New_York:20250923T180000
DTSTAMP:20260423T042617
CREATED:20250908T201626Z
LAST-MODIFIED:20250910T213408Z
UID:5126-1758650400-1758650400@saintmaroncleveland.org
SUMMARY:Divine Liturgy
DESCRIPTION:Location: Chapel – Independence
URL:https://saintmaroncleveland.org/event/divine-liturgy-37/
CATEGORIES:Divine Liturgy
END:VEVENT
BEGIN:VEVENT
DTSTART;VALUE=DATE:20250923
DTEND;VALUE=DATE:20250925
DTSTAMP:20260423T042617
CREATED:20250908T202605Z
LAST-MODIFIED:20250910T205736Z
UID:5215-1758585600-1758682799@saintmaroncleveland.org
SUMMARY:Jonah the Prophet
DESCRIPTION:Feast Day
URL:https://saintmaroncleveland.org/event/jonah-the-prophet/
CATEGORIES:Feast Day
END:VEVENT
BEGIN:VEVENT
DTSTART;TZID=America/New_York:20250922T183000
DTEND;TZID=America/New_York:20250922T203000
DTSTAMP:20260423T042617
CREATED:20250910T205204Z
LAST-MODIFIED:20250913T162756Z
UID:5586-1758565800-1758573000@saintmaroncleveland.org
SUMMARY:St. Sharbel Liturgy
DESCRIPTION:Rosary – 6:30PM and Divine Liturgy – 7:00PM
URL:https://saintmaroncleveland.org/event/st-sharbel-liturgy/
CATEGORIES:Divine Liturgy
END:VEVENT
BEGIN:VEVENT
DTSTART;TZID=America/New_York:20250921T110000
DTEND;TZID=America/New_York:20250921T120000
DTSTAMP:20260423T042617
CREATED:20250910T205205Z
LAST-MODIFIED:20250910T205205Z
UID:5588-1758452400-1758456000@saintmaroncleveland.org
SUMMARY:1st Sunday after Holy Cross
DESCRIPTION:Location: Downtown
URL:https://saintmaroncleveland.org/event/1st-sunday-after-holy-cross-3/
CATEGORIES:Divine Liturgy
END:VEVENT
BEGIN:VEVENT
DTSTART;TZID=America/New_York:20250921T100000
DTEND;TZID=America/New_York:20250921T130000
DTSTAMP:20260423T042617
CREATED:20250908T202957Z
LAST-MODIFIED:20250910T204854Z
UID:5254-1758448800-1758459600@saintmaroncleveland.org
SUMMARY:MYO Meeting
DESCRIPTION:10AM-1:00PM- Middle Eastern Breakfast & Fundraiser AND MYO Packers @ Browns Watch Party (1-4PM)\nLocation: Saint Maron Church\, Downtown
URL:https://saintmaroncleveland.org/event/myo-meeting/
CATEGORIES:MYO
END:VEVENT
BEGIN:VEVENT
DTSTART;TZID=America/New_York:20250921T093000
DTEND;TZID=America/New_York:20250921T103000
DTSTAMP:20260423T042617
CREATED:20250910T205204Z
LAST-MODIFIED:20250910T205204Z
UID:5587-1758447000-1758450600@saintmaroncleveland.org
SUMMARY:1st Sunday after Holy Cross
DESCRIPTION:Location: Downtown
URL:https://saintmaroncleveland.org/event/1st-sunday-after-holy-cross-2/
CATEGORIES:Divine Liturgy
END:VEVENT
BEGIN:VEVENT
DTSTART;TZID=America/New_York:20250920T170000
DTEND;TZID=America/New_York:20250920T180000
DTSTAMP:20260423T042617
CREATED:20250910T205204Z
LAST-MODIFIED:20250910T205204Z
UID:5585-1758387600-1758391200@saintmaroncleveland.org
SUMMARY:1st Sunday after Holy Cross
DESCRIPTION:Location: Chapel – Independence
URL:https://saintmaroncleveland.org/event/1st-sunday-after-holy-cross/
CATEGORIES:Divine Liturgy
END:VEVENT
BEGIN:VEVENT
DTSTART;TZID=America/New_York:20250918T180000
DTEND;TZID=America/New_York:20250918T180000
DTSTAMP:20260423T042617
CREATED:20250908T201626Z
LAST-MODIFIED:20250910T213609Z
UID:5125-1758218400-1758218400@saintmaroncleveland.org
SUMMARY:Divine Liturgy
DESCRIPTION:Location: Chapel – Independence
URL:https://saintmaroncleveland.org/event/divine-liturgy-36/
CATEGORIES:Divine Liturgy
END:VEVENT
BEGIN:VEVENT
DTSTART;TZID=America/New_York:20250917T180000
DTEND;TZID=America/New_York:20250917T190000
DTSTAMP:20260423T042617
CREATED:20250908T201625Z
LAST-MODIFIED:20250917T135500Z
UID:5124-1758132000-1758135600@saintmaroncleveland.org
SUMMARY:Divine Liturgy
DESCRIPTION:Location: Chapel – Independence
URL:https://saintmaroncleveland.org/event/divine-liturgy-35/
CATEGORIES:Divine Liturgy
END:VEVENT
BEGIN:VEVENT
DTSTART;VALUE=DATE:20250917
DTEND;VALUE=DATE:20250919
DTSTAMP:20260423T042617
CREATED:20250910T205736Z
LAST-MODIFIED:20250917T135318Z
UID:5657-1758067200-1758164399@saintmaroncleveland.org
SUMMARY:St. Sophia and Her Three Daughters
DESCRIPTION:Feast Day
URL:https://saintmaroncleveland.org/event/st-sophia-and-her-three-daughters/
CATEGORIES:Feast Day
END:VEVENT
BEGIN:VEVENT
DTSTART;TZID=America/New_York:20250916T180000
DTEND;TZID=America/New_York:20250916T180000
DTSTAMP:20260423T042617
CREATED:20250908T201625Z
LAST-MODIFIED:20250910T213542Z
UID:5123-1758045600-1758045600@saintmaroncleveland.org
SUMMARY:Divine Liturgy
DESCRIPTION:Location: Chapel – Independence
URL:https://saintmaroncleveland.org/event/divine-liturgy-34/
CATEGORIES:Divine Liturgy
END:VEVENT
BEGIN:VEVENT
DTSTART;VALUE=DATE:20250915
DTEND;VALUE=DATE:20250917
DTSTAMP:20260423T042617
CREATED:20250910T205736Z
LAST-MODIFIED:20250910T205736Z
UID:5656-1757894400-1757991599@saintmaroncleveland.org
SUMMARY:St. Sassine
DESCRIPTION:Feast Day
URL:https://saintmaroncleveland.org/event/st-sassine/
CATEGORIES:Feast Day
END:VEVENT
BEGIN:VEVENT
DTSTART;TZID=America/New_York:20250915T000000
DTEND;TZID=America/New_York:20250915T235900
DTSTAMP:20260423T042617
CREATED:20250910T205735Z
LAST-MODIFIED:20250915T175740Z
UID:5655-1757894400-1757980740@saintmaroncleveland.org
SUMMARY:St. Shaina
DESCRIPTION:Feast Day
URL:https://saintmaroncleveland.org/event/st-shaina-2/
CATEGORIES:Feast Day
END:VEVENT
BEGIN:VEVENT
DTSTART;TZID=America/New_York:20250914T110000
DTEND;TZID=America/New_York:20250914T120000
DTSTAMP:20260423T042617
CREATED:20250910T205153Z
LAST-MODIFIED:20250910T205153Z
UID:5584-1757847600-1757851200@saintmaroncleveland.org
SUMMARY:Exaltation of the Holy Cross
DESCRIPTION:Location: Downtown
URL:https://saintmaroncleveland.org/event/exaltation-of-the-holy-cross-3/
CATEGORIES:Divine Liturgy
END:VEVENT
BEGIN:VEVENT
DTSTART;TZID=America/New_York:20250914T093000
DTEND;TZID=America/New_York:20250914T103000
DTSTAMP:20260423T042617
CREATED:20250910T205153Z
LAST-MODIFIED:20250910T205153Z
UID:5583-1757842200-1757845800@saintmaroncleveland.org
SUMMARY:Exaltation of the Holy Cross
DESCRIPTION:Location: Downtown
URL:https://saintmaroncleveland.org/event/exaltation-of-the-holy-cross-2/
CATEGORIES:Divine Liturgy
END:VEVENT
BEGIN:VEVENT
DTSTART;TZID=America/New_York:20250913T180000
DTEND;TZID=America/New_York:20250913T190000
DTSTAMP:20260423T042617
CREATED:20250910T204905Z
LAST-MODIFIED:20250910T204905Z
UID:5564-1757786400-1757790000@saintmaroncleveland.org
SUMMARY:Holy Cross Celebration
DESCRIPTION:Sajj will be offered. Please bring a dish to share to Parish Center
URL:https://saintmaroncleveland.org/event/holy-cross-celebration/
CATEGORIES:Social
END:VEVENT
BEGIN:VEVENT
DTSTART;TZID=America/New_York:20250913T170000
DTEND;TZID=America/New_York:20250913T180000
DTSTAMP:20260423T042617
CREATED:20250910T205149Z
LAST-MODIFIED:20250910T205149Z
UID:5582-1757782800-1757786400@saintmaroncleveland.org
SUMMARY:Exaltation of the Holy Cross
DESCRIPTION:Location: Chapel – Independence
URL:https://saintmaroncleveland.org/event/exaltation-of-the-holy-cross/
CATEGORIES:Divine Liturgy
END:VEVENT
BEGIN:VEVENT
DTSTART;TZID=America/New_York:20250912T180000
DTEND;TZID=America/New_York:20250912T190000
DTSTAMP:20260423T042617
CREATED:20250910T204905Z
LAST-MODIFIED:20250910T204905Z
UID:5563-1757700000-1757703600@saintmaroncleveland.org
SUMMARY:MYP
DESCRIPTION:
URL:https://saintmaroncleveland.org/event/myp/
CATEGORIES:Maronite Young Professionals
END:VEVENT
BEGIN:VEVENT
DTSTART;TZID=America/New_York:20250911T180000
DTEND;TZID=America/New_York:20250911T190000
DTSTAMP:20260423T042617
CREATED:20250908T201621Z
LAST-MODIFIED:20250910T205149Z
UID:5122-1757613600-1757617200@saintmaroncleveland.org
SUMMARY:Divine Liturgy
DESCRIPTION:Location: Chapel – Independence
URL:https://saintmaroncleveland.org/event/divine-liturgy-33/
CATEGORIES:Divine Liturgy
END:VEVENT
BEGIN:VEVENT
DTSTART;TZID=America/New_York:20250910T180000
DTEND;TZID=America/New_York:20250910T180000
DTSTAMP:20260423T042617
CREATED:20250908T201620Z
LAST-MODIFIED:20250910T213259Z
UID:5121-1757527200-1757527200@saintmaroncleveland.org
SUMMARY:Divine Liturgy
DESCRIPTION:Location: Chapel – Independence
URL:https://saintmaroncleveland.org/event/divine-liturgy-32/
CATEGORIES:Divine Liturgy
END:VEVENT
BEGIN:VEVENT
DTSTART;TZID=America/New_York:20250909T180000
DTEND;TZID=America/New_York:20250909T180000
DTSTAMP:20260423T042617
CREATED:20250908T201620Z
LAST-MODIFIED:20250910T213238Z
UID:5120-1757440800-1757440800@saintmaroncleveland.org
SUMMARY:Divine Liturgy
DESCRIPTION:Location: Chapel – Independence
URL:https://saintmaroncleveland.org/event/divine-liturgy-31/
CATEGORIES:Divine Liturgy
END:VEVENT
BEGIN:VEVENT
DTSTART;VALUE=DATE:20250909
DTEND;VALUE=DATE:20250911
DTSTAMP:20260423T042617
CREATED:20250908T202557Z
LAST-MODIFIED:20250911T125741Z
UID:5212-1757376000-1757473199@saintmaroncleveland.org
SUMMARY:Sts. Joachim and Anne
DESCRIPTION:Feast Day
URL:https://saintmaroncleveland.org/event/sts-joachim-and-anne/
CATEGORIES:Feast Day
END:VEVENT
BEGIN:VEVENT
DTSTART;TZID=America/New_York:20250907T110000
DTEND;TZID=America/New_York:20250907T120000
DTSTAMP:20260423T042617
CREATED:20250910T205149Z
LAST-MODIFIED:20250910T205149Z
UID:5581-1757242800-1757246400@saintmaroncleveland.org
SUMMARY:14th Sunday of Pentecost
DESCRIPTION:Location: Downtown
URL:https://saintmaroncleveland.org/event/14th-sunday-of-pentecost-3/
CATEGORIES:Divine Liturgy
END:VEVENT
BEGIN:VEVENT
DTSTART;TZID=America/New_York:20250907T093000
DTEND;TZID=America/New_York:20250907T103000
DTSTAMP:20260423T042617
CREATED:20250910T205147Z
LAST-MODIFIED:20250910T205147Z
UID:5580-1757237400-1757241000@saintmaroncleveland.org
SUMMARY:14th Sunday of Pentecost
DESCRIPTION:Location: Downtown
URL:https://saintmaroncleveland.org/event/14th-sunday-of-pentecost-2/
CATEGORIES:Divine Liturgy
END:VEVENT
BEGIN:VEVENT
DTSTART;TZID=America/New_York:20250906T170000
DTEND;TZID=America/New_York:20250906T210000
DTSTAMP:20260423T042617
CREATED:20250908T203001Z
LAST-MODIFIED:20251006T193839Z
UID:5261-1757178000-1757192400@saintmaroncleveland.org
SUMMARY:MYO Meeting
DESCRIPTION:5-9PM – MYO Meeting & Kickoff\nLocation: Saint Maron Church\, Independence
URL:https://saintmaroncleveland.org/event/myo-meeting-7/
CATEGORIES:Ministries & Events,MYO
END:VEVENT
END:VCALENDAR