BEGIN:VCALENDAR
VERSION:2.0
PRODID:-//Saint Maron Church - ECPv6.15.20//NONSGML v1.0//EN
CALSCALE:GREGORIAN
METHOD:PUBLISH
X-WR-CALNAME:Saint Maron Church
X-ORIGINAL-URL:https://saintmaroncleveland.org
X-WR-CALDESC:Events for Saint Maron Church
REFRESH-INTERVAL;VALUE=DURATION:PT1H
X-Robots-Tag:noindex
X-PUBLISHED-TTL:PT1H
BEGIN:VTIMEZONE
TZID:America/New_York
BEGIN:DAYLIGHT
TZOFFSETFROM:-0500
TZOFFSETTO:-0400
TZNAME:EDT
DTSTART:20250309T070000
END:DAYLIGHT
BEGIN:STANDARD
TZOFFSETFROM:-0400
TZOFFSETTO:-0500
TZNAME:EST
DTSTART:20251102T060000
END:STANDARD
BEGIN:DAYLIGHT
TZOFFSETFROM:-0500
TZOFFSETTO:-0400
TZNAME:EDT
DTSTART:20260308T070000
END:DAYLIGHT
BEGIN:STANDARD
TZOFFSETFROM:-0400
TZOFFSETTO:-0500
TZNAME:EST
DTSTART:20261101T060000
END:STANDARD
BEGIN:DAYLIGHT
TZOFFSETFROM:-0500
TZOFFSETTO:-0400
TZNAME:EDT
DTSTART:20270314T070000
END:DAYLIGHT
BEGIN:STANDARD
TZOFFSETFROM:-0400
TZOFFSETTO:-0500
TZNAME:EST
DTSTART:20271107T060000
END:STANDARD
END:VTIMEZONE
BEGIN:VEVENT
DTSTART;VALUE=DATE:20260203
DTEND;VALUE=DATE:20260204
DTSTAMP:20260419T153645
CREATED:20251223T233228Z
LAST-MODIFIED:20251223T233234Z
UID:6259-1770076800-1770163199@saintmaroncleveland.org
SUMMARY:St. Simeon the Elder and St. Anna the Prophetess
DESCRIPTION:Feast Day
URL:https://saintmaroncleveland.org/event/st-simeon-the-elder-and-st-anna-the-prophetess/
LOCATION:OH
CATEGORIES:Feast Day
END:VEVENT
BEGIN:VEVENT
DTSTART;VALUE=DATE:20260202
DTEND;VALUE=DATE:20260203
DTSTAMP:20260419T153645
CREATED:20251223T232846Z
LAST-MODIFIED:20251223T232846Z
UID:6257-1769990400-1770076799@saintmaroncleveland.org
SUMMARY:Presentation of Christ in the Temple
DESCRIPTION:Feast Day
URL:https://saintmaroncleveland.org/event/presentation-of-christ-in-the-temple/
LOCATION:OH
CATEGORIES:Feast Day
END:VEVENT
BEGIN:VEVENT
DTSTART;TZID=America/New_York:20260201T110000
DTEND;TZID=America/New_York:20260201T120000
DTSTAMP:20260419T153645
CREATED:20251223T231621Z
LAST-MODIFIED:20251223T231621Z
UID:6222-1769943600-1769947200@saintmaroncleveland.org
SUMMARY:Divine Liturgy: Sunday of the Righteous and Just - Downtown
DESCRIPTION:
URL:https://saintmaroncleveland.org/event/divine-liturgy-1st-sunday-after-epiphany-independence-2-2-2-2-2/
LOCATION:St. Maron Church Downtown\, 1245 Carnegie Ave\, Cleveland\, Ohio\, 44115
CATEGORIES:Divine Liturgy
END:VEVENT
BEGIN:VEVENT
DTSTART;TZID=America/New_York:20260201T093000
DTEND;TZID=America/New_York:20260201T103000
DTSTAMP:20260419T153645
CREATED:20251223T231553Z
LAST-MODIFIED:20251223T231553Z
UID:6220-1769938200-1769941800@saintmaroncleveland.org
SUMMARY:Divine Liturgy: Sunday of the Righteous and Just - Downtown
DESCRIPTION:
URL:https://saintmaroncleveland.org/event/divine-liturgy-1st-sunday-after-epiphany-independence-2-3-2-2/
LOCATION:St. Maron Church Downtown\, 1245 Carnegie Ave\, Cleveland\, Ohio\, 44115
CATEGORIES:Divine Liturgy
END:VEVENT
BEGIN:VEVENT
DTSTART;TZID=America/New_York:20260131T170000
DTEND;TZID=America/New_York:20260131T180000
DTSTAMP:20260419T153645
CREATED:20251223T231529Z
LAST-MODIFIED:20251223T231529Z
UID:6218-1769878800-1769882400@saintmaroncleveland.org
SUMMARY:Divine Liturgy: Sunday of the Righteous and Just - Independence
DESCRIPTION:
URL:https://saintmaroncleveland.org/event/divine-liturgy-1st-sunday-after-epiphany-independence-3-2-2/
LOCATION:St. Maron Chapel – Independence\, 7800 Brookside Rd\, Independence\, OH\, 44131\, United States
CATEGORIES:Divine Liturgy
END:VEVENT
BEGIN:VEVENT
DTSTART;VALUE=DATE:20260131
DTEND;VALUE=DATE:20260201
DTSTAMP:20260419T153645
CREATED:20251223T232813Z
LAST-MODIFIED:20251223T232813Z
UID:6255-1769817600-1769903999@saintmaroncleveland.org
SUMMARY:St. John Bosco
DESCRIPTION:Feast Day
URL:https://saintmaroncleveland.org/event/st-john-bosco/
LOCATION:OH
CATEGORIES:Feast Day
END:VEVENT
BEGIN:VEVENT
DTSTART;VALUE=DATE:20260130
DTEND;VALUE=DATE:20260131
DTSTAMP:20260419T153645
CREATED:20251223T232745Z
LAST-MODIFIED:20251223T232745Z
UID:6253-1769731200-1769817599@saintmaroncleveland.org
SUMMARY:St. Maximus the Confessor
DESCRIPTION:Feast Day
URL:https://saintmaroncleveland.org/event/st-maximus-the-confessor/
LOCATION:OH
CATEGORIES:Feast Day
END:VEVENT
BEGIN:VEVENT
DTSTART;TZID=America/New_York:20260129T180000
DTEND;TZID=America/New_York:20260129T190000
DTSTAMP:20260419T153645
CREATED:20251223T215717Z
LAST-MODIFIED:20251223T215717Z
UID:6176-1769709600-1769713200@saintmaroncleveland.org
SUMMARY:Divine Liturgy
DESCRIPTION:Location: Chapel – Independence
URL:https://saintmaroncleveland.org/event/divine-liturgy-2-2-2-2-2-2-2-2-2-2-2/
LOCATION:St. Maron Chapel – Independence\, 7800 Brookside Rd\, Independence\, OH\, 44131\, United States
CATEGORIES:Divine Liturgy
END:VEVENT
BEGIN:VEVENT
DTSTART;VALUE=DATE:20260129
DTEND;VALUE=DATE:20260130
DTSTAMP:20260419T153645
CREATED:20251223T232642Z
LAST-MODIFIED:20251223T232642Z
UID:6251-1769644800-1769731199@saintmaroncleveland.org
SUMMARY:St. Hippolytus of Antioch
DESCRIPTION:Feast Day
URL:https://saintmaroncleveland.org/event/st-hippolytus-of-antioch/
LOCATION:OH
CATEGORIES:Feast Day
END:VEVENT
BEGIN:VEVENT
DTSTART;TZID=America/New_York:20260128T180000
DTEND;TZID=America/New_York:20260128T190000
DTSTAMP:20260419T153645
CREATED:20251223T215701Z
LAST-MODIFIED:20251223T215701Z
UID:6174-1769623200-1769626800@saintmaroncleveland.org
SUMMARY:Divine Liturgy
DESCRIPTION:Location: Chapel – Independence
URL:https://saintmaroncleveland.org/event/divine-liturgy-2-2-2-2-2-2-2-2-2-2/
LOCATION:St. Maron Chapel – Independence\, 7800 Brookside Rd\, Independence\, OH\, 44131\, United States
CATEGORIES:Divine Liturgy
END:VEVENT
BEGIN:VEVENT
DTSTART;VALUE=DATE:20260128
DTEND;VALUE=DATE:20260129
DTSTAMP:20260419T153645
CREATED:20251223T232609Z
LAST-MODIFIED:20251223T232610Z
UID:6249-1769558400-1769644799@saintmaroncleveland.org
SUMMARY:St. Ephrem\, Doctor of the Church
DESCRIPTION:Feast Day
URL:https://saintmaroncleveland.org/event/st-ephrem-doctor-of-the-church/
LOCATION:OH
CATEGORIES:Feast Day
END:VEVENT
BEGIN:VEVENT
DTSTART;TZID=America/New_York:20260127T180000
DTEND;TZID=America/New_York:20260127T190000
DTSTAMP:20260419T153645
CREATED:20251223T215640Z
LAST-MODIFIED:20251223T215640Z
UID:6172-1769536800-1769540400@saintmaroncleveland.org
SUMMARY:Divine Liturgy
DESCRIPTION:Location: Chapel – Independence
URL:https://saintmaroncleveland.org/event/divine-liturgy-2-2-2-2-2-2-2-2-2/
LOCATION:St. Maron Chapel – Independence\, 7800 Brookside Rd\, Independence\, OH\, 44131\, United States
CATEGORIES:Divine Liturgy
END:VEVENT
BEGIN:VEVENT
DTSTART;TZID=America/New_York:20260125T110000
DTEND;TZID=America/New_York:20260125T120000
DTSTAMP:20260419T153645
CREATED:20251223T231432Z
LAST-MODIFIED:20251223T231432Z
UID:6216-1769338800-1769342400@saintmaroncleveland.org
SUMMARY:Divine Liturgy: Sunday of the Priests - Downtown
DESCRIPTION:
URL:https://saintmaroncleveland.org/event/divine-liturgy-1st-sunday-after-epiphany-independence-2-2-2-2/
LOCATION:St. Maron Church Downtown\, 1245 Carnegie Ave\, Cleveland\, Ohio\, 44115
CATEGORIES:Divine Liturgy
END:VEVENT
BEGIN:VEVENT
DTSTART;TZID=America/New_York:20260125T093000
DTEND;TZID=America/New_York:20260125T103000
DTSTAMP:20260419T153645
CREATED:20251223T230324Z
LAST-MODIFIED:20251223T230324Z
UID:6214-1769333400-1769337000@saintmaroncleveland.org
SUMMARY:Divine Liturgy: Sunday of the Priests - Downtown
DESCRIPTION:
URL:https://saintmaroncleveland.org/event/divine-liturgy-1st-sunday-after-epiphany-independence-2-3-2/
LOCATION:St. Maron Church Downtown\, 1245 Carnegie Ave\, Cleveland\, Ohio\, 44115
CATEGORIES:Divine Liturgy
END:VEVENT
BEGIN:VEVENT
DTSTART;VALUE=DATE:20260125
DTEND;VALUE=DATE:20260126
DTSTAMP:20260419T153645
CREATED:20251223T232537Z
LAST-MODIFIED:20251223T232538Z
UID:6247-1769299200-1769385599@saintmaroncleveland.org
SUMMARY:Conversion of St. Paul
DESCRIPTION:Feast Day
URL:https://saintmaroncleveland.org/event/conversion-of-st-paul/
LOCATION:OH
CATEGORIES:Feast Day
END:VEVENT
BEGIN:VEVENT
DTSTART;TZID=America/New_York:20260124T170000
DTEND;TZID=America/New_York:20260124T180000
DTSTAMP:20260419T153645
CREATED:20251223T230248Z
LAST-MODIFIED:20251223T230248Z
UID:6212-1769274000-1769277600@saintmaroncleveland.org
SUMMARY:Divine Liturgy: Sunday of the Priests - Independence
DESCRIPTION:
URL:https://saintmaroncleveland.org/event/divine-liturgy-1st-sunday-after-epiphany-independence-3-2/
LOCATION:St. Maron Chapel – Independence\, 7800 Brookside Rd\, Independence\, OH\, 44131\, United States
CATEGORIES:Divine Liturgy
END:VEVENT
BEGIN:VEVENT
DTSTART;VALUE=DATE:20260124
DTEND;VALUE=DATE:20260125
DTSTAMP:20260419T153645
CREATED:20251223T232447Z
LAST-MODIFIED:20251223T232447Z
UID:6245-1769212800-1769299199@saintmaroncleveland.org
SUMMARY:St. Francis de Sales\, Doctor of the Church
DESCRIPTION:Feast Day
URL:https://saintmaroncleveland.org/event/st-francis-de-sales-doctor-of-the-church/
LOCATION:OH
CATEGORIES:Feast Day
END:VEVENT
BEGIN:VEVENT
DTSTART;TZID=America/New_York:20260122T180000
DTEND;TZID=America/New_York:20260122T190000
DTSTAMP:20260419T153645
CREATED:20251223T215621Z
LAST-MODIFIED:20251223T215621Z
UID:6170-1769104800-1769108400@saintmaroncleveland.org
SUMMARY:Divine Liturgy
DESCRIPTION:Location: Chapel – Independence
URL:https://saintmaroncleveland.org/event/divine-liturgy-2-2-2-2-2-2-2-2/
LOCATION:St. Maron Chapel – Independence\, 7800 Brookside Rd\, Independence\, OH\, 44131\, United States
CATEGORIES:Divine Liturgy
END:VEVENT
BEGIN:VEVENT
DTSTART;TZID=America/New_York:20260121T180000
DTEND;TZID=America/New_York:20260121T190000
DTSTAMP:20260419T153645
CREATED:20251223T215604Z
LAST-MODIFIED:20251223T215604Z
UID:6168-1769018400-1769022000@saintmaroncleveland.org
SUMMARY:Divine Liturgy
DESCRIPTION:Location: Chapel – Independence
URL:https://saintmaroncleveland.org/event/divine-liturgy-2-2-2-2-2-2-2/
LOCATION:St. Maron Chapel – Independence\, 7800 Brookside Rd\, Independence\, OH\, 44131\, United States
CATEGORIES:Divine Liturgy
END:VEVENT
BEGIN:VEVENT
DTSTART;TZID=America/New_York:20260120T180000
DTEND;TZID=America/New_York:20260120T190000
DTSTAMP:20260419T153645
CREATED:20251223T215546Z
LAST-MODIFIED:20251223T215546Z
UID:6166-1768932000-1768935600@saintmaroncleveland.org
SUMMARY:Divine Liturgy
DESCRIPTION:Location: Chapel – Independence
URL:https://saintmaroncleveland.org/event/divine-liturgy-2-2-2-2-2-2/
LOCATION:St. Maron Chapel – Independence\, 7800 Brookside Rd\, Independence\, OH\, 44131\, United States
CATEGORIES:Divine Liturgy
END:VEVENT
BEGIN:VEVENT
DTSTART;VALUE=DATE:20260119
DTEND;VALUE=DATE:20260120
DTSTAMP:20260419T153645
CREATED:20251223T232420Z
LAST-MODIFIED:20251223T232420Z
UID:6243-1768780800-1768867199@saintmaroncleveland.org
SUMMARY:St. Macarius of Egypt
DESCRIPTION:Feast Day
URL:https://saintmaroncleveland.org/event/st-macarius-of-egypt/
LOCATION:OH
CATEGORIES:Feast Day
END:VEVENT
BEGIN:VEVENT
DTSTART;TZID=America/New_York:20260118T110000
DTEND;TZID=America/New_York:20260118T120000
DTSTAMP:20260419T153645
CREATED:20251223T225004Z
LAST-MODIFIED:20251223T225004Z
UID:6210-1768734000-1768737600@saintmaroncleveland.org
SUMMARY:Divine Liturgy: 2nd Sunday after Epiphany - Downtown
DESCRIPTION:
URL:https://saintmaroncleveland.org/event/divine-liturgy-1st-sunday-after-epiphany-independence-2-2-2/
LOCATION:St. Maron Church Downtown\, 1245 Carnegie Ave\, Cleveland\, Ohio\, 44115
CATEGORIES:Divine Liturgy
END:VEVENT
BEGIN:VEVENT
DTSTART;TZID=America/New_York:20260118T093000
DTEND;TZID=America/New_York:20260118T103000
DTSTAMP:20260419T153645
CREATED:20251223T224838Z
LAST-MODIFIED:20251223T224908Z
UID:6208-1768728600-1768732200@saintmaroncleveland.org
SUMMARY:Divine Liturgy: 2nd Sunday after Epiphany - Downtown
DESCRIPTION:
URL:https://saintmaroncleveland.org/event/divine-liturgy-1st-sunday-after-epiphany-independence-2-3/
LOCATION:St. Maron Church Downtown\, 1245 Carnegie Ave\, Cleveland\, Ohio\, 44115
CATEGORIES:Divine Liturgy
END:VEVENT
BEGIN:VEVENT
DTSTART;VALUE=DATE:20260118
DTEND;VALUE=DATE:20260119
DTSTAMP:20260419T153645
CREATED:20251223T232323Z
LAST-MODIFIED:20251223T232323Z
UID:6241-1768694400-1768780799@saintmaroncleveland.org
SUMMARY:St. Cyril of Alexandria\, Doctor of the Church
DESCRIPTION:Feast Day
URL:https://saintmaroncleveland.org/event/st-cyril-of-alexandria-doctor-of-the-church/
LOCATION:OH
CATEGORIES:Feast Day
END:VEVENT
BEGIN:VEVENT
DTSTART;VALUE=DATE:20260118
DTEND;VALUE=DATE:20260119
DTSTAMP:20260419T153645
CREATED:20251223T232254Z
LAST-MODIFIED:20251223T232254Z
UID:6239-1768694400-1768780799@saintmaroncleveland.org
SUMMARY:St. Athanasius of Alexandria\, Doctor of the Church
DESCRIPTION:Feast Day
URL:https://saintmaroncleveland.org/event/st-athanasius-of-alexandria-doctor-of-the-church/
LOCATION:OH
CATEGORIES:Feast Day
END:VEVENT
BEGIN:VEVENT
DTSTART;VALUE=DATE:20260118
DTEND;VALUE=DATE:20260119
DTSTAMP:20260419T153645
CREATED:20251223T232229Z
LAST-MODIFIED:20251223T232229Z
UID:6237-1768694400-1768780799@saintmaroncleveland.org
SUMMARY:Establishment of the Chair of St. Peter in Rome
DESCRIPTION:Feast Day
URL:https://saintmaroncleveland.org/event/establishment-of-the-chair-of-st-peter-in-rome/
LOCATION:OH
CATEGORIES:Feast Day
END:VEVENT
BEGIN:VEVENT
DTSTART;TZID=America/New_York:20260117T170000
DTEND;TZID=America/New_York:20260117T180000
DTSTAMP:20260419T153645
CREATED:20251223T224708Z
LAST-MODIFIED:20251223T224708Z
UID:6204-1768669200-1768672800@saintmaroncleveland.org
SUMMARY:Divine Liturgy: 2nd Sunday after Epiphany - Independence
DESCRIPTION:
URL:https://saintmaroncleveland.org/event/divine-liturgy-1st-sunday-after-epiphany-independence-3/
LOCATION:St. Maron Chapel – Independence\, 7800 Brookside Rd\, Independence\, OH\, 44131\, United States
CATEGORIES:Divine Liturgy
END:VEVENT
BEGIN:VEVENT
DTSTART;VALUE=DATE:20260117
DTEND;VALUE=DATE:20260118
DTSTAMP:20260419T153645
CREATED:20251223T232134Z
LAST-MODIFIED:20251223T232134Z
UID:6235-1768608000-1768694399@saintmaroncleveland.org
SUMMARY:St. Anthony the Great
DESCRIPTION:Feast Day
URL:https://saintmaroncleveland.org/event/st-anthony-the-great/
LOCATION:OH
CATEGORIES:Feast Day
END:VEVENT
BEGIN:VEVENT
DTSTART;VALUE=DATE:20260116
DTEND;VALUE=DATE:20260117
DTSTAMP:20260419T153645
CREATED:20251223T232104Z
LAST-MODIFIED:20251223T232104Z
UID:6233-1768521600-1768607999@saintmaroncleveland.org
SUMMARY:Memorial of the Chains of St. Peter\,
DESCRIPTION:Feast Day
URL:https://saintmaroncleveland.org/event/memorial-of-the-chains-of-st-peter/
LOCATION:OH
CATEGORIES:Feast Day
END:VEVENT
BEGIN:VEVENT
DTSTART;VALUE=DATE:20260115
DTEND;VALUE=DATE:20260116
DTSTAMP:20260419T153645
CREATED:20251223T232005Z
LAST-MODIFIED:20251223T232005Z
UID:6231-1768435200-1768521599@saintmaroncleveland.org
SUMMARY:Our Lady of the Sowing
DESCRIPTION:Feast Day
URL:https://saintmaroncleveland.org/event/our-lady-of-the-sowing/
LOCATION:OH
CATEGORIES:Feast Day
END:VEVENT
END:VCALENDAR