BEGIN:VCALENDAR
VERSION:2.0
PRODID:-//Saint Maron Church - ECPv6.15.20//NONSGML v1.0//EN
CALSCALE:GREGORIAN
METHOD:PUBLISH
X-WR-CALNAME:Saint Maron Church
X-ORIGINAL-URL:https://saintmaroncleveland.org
X-WR-CALDESC:Events for Saint Maron Church
REFRESH-INTERVAL;VALUE=DURATION:PT1H
X-Robots-Tag:noindex
X-PUBLISHED-TTL:PT1H
BEGIN:VTIMEZONE
TZID:America/New_York
BEGIN:DAYLIGHT
TZOFFSETFROM:-0500
TZOFFSETTO:-0400
TZNAME:EDT
DTSTART:20250309T070000
END:DAYLIGHT
BEGIN:STANDARD
TZOFFSETFROM:-0400
TZOFFSETTO:-0500
TZNAME:EST
DTSTART:20251102T060000
END:STANDARD
BEGIN:DAYLIGHT
TZOFFSETFROM:-0500
TZOFFSETTO:-0400
TZNAME:EDT
DTSTART:20260308T070000
END:DAYLIGHT
BEGIN:STANDARD
TZOFFSETFROM:-0400
TZOFFSETTO:-0500
TZNAME:EST
DTSTART:20261101T060000
END:STANDARD
BEGIN:DAYLIGHT
TZOFFSETFROM:-0500
TZOFFSETTO:-0400
TZNAME:EDT
DTSTART:20270314T070000
END:DAYLIGHT
BEGIN:STANDARD
TZOFFSETFROM:-0400
TZOFFSETTO:-0500
TZNAME:EST
DTSTART:20271107T060000
END:STANDARD
END:VTIMEZONE
BEGIN:VEVENT
DTSTART;TZID=America/New_York:20260404T170000
DTEND;TZID=America/New_York:20260404T180000
DTSTAMP:20260419T134909
CREATED:20260315T152800Z
LAST-MODIFIED:20260315T154410Z
UID:6640-1775322000-1775325600@saintmaroncleveland.org
SUMMARY:Resurrection Vigil Liturgy - Chapel
DESCRIPTION:
URL:https://saintmaroncleveland.org/event/resurrection-vigil-liturgy-chapel/
LOCATION:St. Maron Chapel – Independence\, 7800 Brookside Rd\, Independence\, OH\, 44131\, United States
CATEGORIES:Divine Liturgy
END:VEVENT
BEGIN:VEVENT
DTSTART;TZID=America/New_York:20260405T000000
DTEND;TZID=America/New_York:20260405T010000
DTSTAMP:20260419T134909
CREATED:20260315T152917Z
LAST-MODIFIED:20260315T154405Z
UID:6642-1775347200-1775350800@saintmaroncleveland.org
SUMMARY:Midnight Resurrection Divine Liturgy - Downtown
DESCRIPTION:
URL:https://saintmaroncleveland.org/event/midnight-resurrection-divine-liturgy-downtown/
LOCATION:St. Maron Church Downtown\, 1245 Carnegie Ave\, Cleveland\, Ohio\, 44115
CATEGORIES:Divine Liturgy
END:VEVENT
BEGIN:VEVENT
DTSTART;TZID=America/New_York:20260405T110000
DTEND;TZID=America/New_York:20260405T120000
DTSTAMP:20260419T134909
CREATED:20260315T153118Z
LAST-MODIFIED:20260315T154356Z
UID:6644-1775386800-1775390400@saintmaroncleveland.org
SUMMARY:Resurrection Divine Liturgy - Downtown
DESCRIPTION:
URL:https://saintmaroncleveland.org/event/ressurection-divine-liturgy-downtown/
LOCATION:St. Maron Church Downtown\, 1245 Carnegie Ave\, Cleveland\, Ohio\, 44115
CATEGORIES:Divine Liturgy
END:VEVENT
BEGIN:VEVENT
DTSTART;TZID=America/New_York:20260407T180000
DTEND;TZID=America/New_York:20260407T190000
DTSTAMP:20260419T134909
CREATED:20260317T212925Z
LAST-MODIFIED:20260317T212925Z
UID:6687-1775584800-1775588400@saintmaroncleveland.org
SUMMARY:Divine Liturgy
DESCRIPTION:
URL:https://saintmaroncleveland.org/event/divine-liturgy-4/
LOCATION:St. Maron Chapel – Independence\, 7800 Brookside Rd\, Independence\, OH\, 44131\, United States
CATEGORIES:Divine Liturgy
END:VEVENT
BEGIN:VEVENT
DTSTART;TZID=America/New_York:20260408T180000
DTEND;TZID=America/New_York:20260408T190000
DTSTAMP:20260419T134909
CREATED:20260317T213000Z
LAST-MODIFIED:20260317T213000Z
UID:6689-1775671200-1775674800@saintmaroncleveland.org
SUMMARY:Divine Liturgy
DESCRIPTION:
URL:https://saintmaroncleveland.org/event/divine-liturgy-5/
LOCATION:St. Maron Chapel – Independence\, 7800 Brookside Rd\, Independence\, OH\, 44131\, United States
CATEGORIES:Divine Liturgy
END:VEVENT
BEGIN:VEVENT
DTSTART;TZID=America/New_York:20260409T180000
DTEND;TZID=America/New_York:20260409T190000
DTSTAMP:20260419T134909
CREATED:20260317T213031Z
LAST-MODIFIED:20260317T213031Z
UID:6691-1775757600-1775761200@saintmaroncleveland.org
SUMMARY:Divine Liturgy
DESCRIPTION:
URL:https://saintmaroncleveland.org/event/divine-liturgy-6/
LOCATION:St. Maron Chapel – Independence\, 7800 Brookside Rd\, Independence\, OH\, 44131\, United States
CATEGORIES:Divine Liturgy
END:VEVENT
BEGIN:VEVENT
DTSTART;TZID=America/New_York:20260411T170000
DTEND;TZID=America/New_York:20260411T180000
DTSTAMP:20260419T134909
CREATED:20260317T213928Z
LAST-MODIFIED:20260317T213928Z
UID:6712-1775926800-1775930400@saintmaroncleveland.org
SUMMARY:Divine Liturgy: 2nd Sunday of the Resurrection - Independence
DESCRIPTION:
URL:https://saintmaroncleveland.org/event/divine-liturgy-2nd-sunday-of-the-resurrection-independence/
LOCATION:St. Maron Chapel – Independence\, 7800 Brookside Rd\, Independence\, OH\, 44131\, United States
CATEGORIES:Divine Liturgy
END:VEVENT
BEGIN:VEVENT
DTSTART;TZID=America/New_York:20260412T093000
DTEND;TZID=America/New_York:20260412T103000
DTSTAMP:20260419T134909
CREATED:20260317T214006Z
LAST-MODIFIED:20260317T214006Z
UID:6714-1775986200-1775989800@saintmaroncleveland.org
SUMMARY:Divine Liturgy: 2nd Sunday of the Resurrection - Downtown
DESCRIPTION:
URL:https://saintmaroncleveland.org/event/divine-liturgy-2nd-sunday-of-the-resurrection-downtown/
LOCATION:St. Maron Church Downtown\, 1245 Carnegie Ave\, Cleveland\, Ohio\, 44115
CATEGORIES:Divine Liturgy
END:VEVENT
BEGIN:VEVENT
DTSTART;TZID=America/New_York:20260412T110000
DTEND;TZID=America/New_York:20260412T120000
DTSTAMP:20260419T134909
CREATED:20260317T214045Z
LAST-MODIFIED:20260317T214045Z
UID:6716-1775991600-1775995200@saintmaroncleveland.org
SUMMARY:Divine Liturgy: 2nd Sunday of the Resurrection - Downtown
DESCRIPTION:
URL:https://saintmaroncleveland.org/event/divine-liturgy-2nd-sunday-of-the-resurrection-downtown-2/
LOCATION:St. Maron Church Downtown\, 1245 Carnegie Ave\, Cleveland\, Ohio\, 44115
CATEGORIES:Divine Liturgy
END:VEVENT
BEGIN:VEVENT
DTSTART;TZID=America/New_York:20260413T190000
DTEND;TZID=America/New_York:20260413T200000
DTSTAMP:20260419T134909
CREATED:20260413T173916Z
LAST-MODIFIED:20260413T173932Z
UID:6873-1776106800-1776110400@saintmaroncleveland.org
SUMMARY:Liturgy for Lebanon
DESCRIPTION:
URL:https://saintmaroncleveland.org/event/liturgy-for-lebanon/
LOCATION:St. Maron Chapel – Independence\, 7800 Brookside Rd\, Independence\, OH\, 44131\, United States
CATEGORIES:Divine Liturgy
ATTACH;FMTTYPE=image/png:https://saintmaroncleveland.org/wp-content/uploads/2026/04/Special-Liturgies-Template-scaled.png
END:VEVENT
BEGIN:VEVENT
DTSTART;TZID=America/New_York:20260414T180000
DTEND;TZID=America/New_York:20260414T190000
DTSTAMP:20260419T134909
CREATED:20260317T213055Z
LAST-MODIFIED:20260317T213055Z
UID:6693-1776189600-1776193200@saintmaroncleveland.org
SUMMARY:Divine Liturgy
DESCRIPTION:
URL:https://saintmaroncleveland.org/event/divine-liturgy-7/
LOCATION:St. Maron Chapel – Independence\, 7800 Brookside Rd\, Independence\, OH\, 44131\, United States
CATEGORIES:Divine Liturgy
END:VEVENT
BEGIN:VEVENT
DTSTART;TZID=America/New_York:20260415T180000
DTEND;TZID=America/New_York:20260415T190000
DTSTAMP:20260419T134909
CREATED:20260317T213217Z
LAST-MODIFIED:20260317T213337Z
UID:6699-1776276000-1776279600@saintmaroncleveland.org
SUMMARY:Divine Liturgy
DESCRIPTION:
URL:https://saintmaroncleveland.org/event/divine-liturgy-10/
LOCATION:St. Maron Chapel – Independence\, 7800 Brookside Rd\, Independence\, OH\, 44131\, United States
CATEGORIES:Divine Liturgy
END:VEVENT
BEGIN:VEVENT
DTSTART;TZID=America/New_York:20260416T180000
DTEND;TZID=America/New_York:20260416T190000
DTSTAMP:20260419T134909
CREATED:20260317T213127Z
LAST-MODIFIED:20260317T213127Z
UID:6695-1776362400-1776366000@saintmaroncleveland.org
SUMMARY:Divine Liturgy
DESCRIPTION:
URL:https://saintmaroncleveland.org/event/divine-liturgy-8/
LOCATION:St. Maron Chapel – Independence\, 7800 Brookside Rd\, Independence\, OH\, 44131\, United States
CATEGORIES:Divine Liturgy
END:VEVENT
BEGIN:VEVENT
DTSTART;TZID=America/New_York:20260418T170000
DTEND;TZID=America/New_York:20260418T180000
DTSTAMP:20260419T134909
CREATED:20260319T210836Z
LAST-MODIFIED:20260319T210836Z
UID:6719-1776531600-1776535200@saintmaroncleveland.org
SUMMARY:Divine Liturgy: 3rd Sunday of the Resurrection - Chapel
DESCRIPTION:
URL:https://saintmaroncleveland.org/event/divine-liturgy-3rd-sunday-of-the-resurrection-chapel/
LOCATION:St. Maron Chapel – Independence\, 7800 Brookside Rd\, Independence\, OH\, 44131\, United States
CATEGORIES:Divine Liturgy
END:VEVENT
BEGIN:VEVENT
DTSTART;TZID=America/New_York:20260419T093000
DTEND;TZID=America/New_York:20260419T103000
DTSTAMP:20260419T134909
CREATED:20260319T210922Z
LAST-MODIFIED:20260319T210922Z
UID:6721-1776591000-1776594600@saintmaroncleveland.org
SUMMARY:Divine Liturgy: 3rd Sunday of the Resurrection - Downtown
DESCRIPTION:
URL:https://saintmaroncleveland.org/event/divine-liturgy-3rd-sunday-of-the-resurrection-downtown/
LOCATION:St. Maron Church Downtown\, 1245 Carnegie Ave\, Cleveland\, Ohio\, 44115
CATEGORIES:Divine Liturgy
END:VEVENT
BEGIN:VEVENT
DTSTART;TZID=America/New_York:20260419T110000
DTEND;TZID=America/New_York:20260419T120000
DTSTAMP:20260419T134909
CREATED:20260319T210952Z
LAST-MODIFIED:20260319T210952Z
UID:6723-1776596400-1776600000@saintmaroncleveland.org
SUMMARY:Divine Liturgy: 3rd Sunday of the Resurrection - Downtown
DESCRIPTION:
URL:https://saintmaroncleveland.org/event/divine-liturgy-3rd-sunday-of-the-resurrection-downtown-2/
LOCATION:St. Maron Church Downtown\, 1245 Carnegie Ave\, Cleveland\, Ohio\, 44115
CATEGORIES:Divine Liturgy
END:VEVENT
BEGIN:VEVENT
DTSTART;TZID=America/New_York:20260421T180000
DTEND;TZID=America/New_York:20260421T190000
DTSTAMP:20260419T134909
CREATED:20260317T213157Z
LAST-MODIFIED:20260317T213157Z
UID:6697-1776794400-1776798000@saintmaroncleveland.org
SUMMARY:Divine Liturgy
DESCRIPTION:
URL:https://saintmaroncleveland.org/event/divine-liturgy-9/
LOCATION:St. Maron Chapel – Independence\, 7800 Brookside Rd\, Independence\, OH\, 44131\, United States
CATEGORIES:Divine Liturgy
END:VEVENT
BEGIN:VEVENT
DTSTART;TZID=America/New_York:20260425T170000
DTEND;TZID=America/New_York:20260425T180000
DTSTAMP:20260419T134909
CREATED:20260319T211042Z
LAST-MODIFIED:20260319T211042Z
UID:6725-1777136400-1777140000@saintmaroncleveland.org
SUMMARY:Divine Liturgy: 4th Sunday of the Resurrection - Chapel
DESCRIPTION:
URL:https://saintmaroncleveland.org/event/divine-liturgy-4th-sunday-of-the-resurrection-chapel/
LOCATION:St. Maron Chapel – Independence\, 7800 Brookside Rd\, Independence\, OH\, 44131\, United States
CATEGORIES:Divine Liturgy
END:VEVENT
BEGIN:VEVENT
DTSTART;TZID=America/New_York:20260426T093000
DTEND;TZID=America/New_York:20260426T103000
DTSTAMP:20260419T134909
CREATED:20260319T211148Z
LAST-MODIFIED:20260319T211148Z
UID:6727-1777195800-1777199400@saintmaroncleveland.org
SUMMARY:Divine Liturgy: 4th Sunday of the Resurrection - Downtown
DESCRIPTION:
URL:https://saintmaroncleveland.org/event/divine-liturgy-4th-sunday-of-the-resurrection-downtown/
LOCATION:OH
CATEGORIES:Divine Liturgy
END:VEVENT
BEGIN:VEVENT
DTSTART;TZID=America/New_York:20260426T110000
DTEND;TZID=America/New_York:20260426T120000
DTSTAMP:20260419T134909
CREATED:20260319T211215Z
LAST-MODIFIED:20260319T211215Z
UID:6729-1777201200-1777204800@saintmaroncleveland.org
SUMMARY:Divine Liturgy: 4th Sunday of the Resurrection - Downtown
DESCRIPTION:
URL:https://saintmaroncleveland.org/event/divine-liturgy-4th-sunday-of-the-resurrection-downtown-2/
LOCATION:St. Maron Church Downtown\, 1245 Carnegie Ave\, Cleveland\, Ohio\, 44115
CATEGORIES:Divine Liturgy
END:VEVENT
BEGIN:VEVENT
DTSTART;TZID=America/New_York:20260429T180000
DTEND;TZID=America/New_York:20260429T190000
DTSTAMP:20260419T134909
CREATED:20260317T213604Z
LAST-MODIFIED:20260317T213604Z
UID:6708-1777485600-1777489200@saintmaroncleveland.org
SUMMARY:Divine Liturgy
DESCRIPTION:
URL:https://saintmaroncleveland.org/event/divine-liturgy-14/
LOCATION:St. Maron Chapel – Independence\, 7800 Brookside Rd\, Independence\, OH\, 44131\, United States
CATEGORIES:Divine Liturgy
END:VEVENT
BEGIN:VEVENT
DTSTART;TZID=America/New_York:20260430T180000
DTEND;TZID=America/New_York:20260430T190000
DTSTAMP:20260419T134909
CREATED:20260317T213645Z
LAST-MODIFIED:20260317T213645Z
UID:6710-1777572000-1777575600@saintmaroncleveland.org
SUMMARY:Divine Liturgy
DESCRIPTION:
URL:https://saintmaroncleveland.org/event/divine-liturgy-15/
LOCATION:St. Maron Chapel – Independence\, 7800 Brookside Rd\, Independence\, OH\, 44131\, United States
CATEGORIES:Divine Liturgy
END:VEVENT
BEGIN:VEVENT
DTSTART;TZID=America/New_York:20260502T170000
DTEND;TZID=America/New_York:20260502T180000
DTSTAMP:20260419T134909
CREATED:20260408T183712Z
LAST-MODIFIED:20260408T183712Z
UID:6841-1777741200-1777744800@saintmaroncleveland.org
SUMMARY:Divine Liturgy: 5th Sunday of the Resurrection - Chapel
DESCRIPTION:
URL:https://saintmaroncleveland.org/event/divine-liturgy-5th-sunday-of-the-resurrection-chapel/
LOCATION:St. Maron Chapel – Independence\, 7800 Brookside Rd\, Independence\, OH\, 44131\, United States
CATEGORIES:Divine Liturgy
END:VEVENT
BEGIN:VEVENT
DTSTART;TZID=America/New_York:20260503T093000
DTEND;TZID=America/New_York:20260503T103000
DTSTAMP:20260419T134909
CREATED:20260408T183752Z
LAST-MODIFIED:20260408T183752Z
UID:6843-1777800600-1777804200@saintmaroncleveland.org
SUMMARY:Divine Liturgy: 5th Sunday of the Resurrection - Downtown
DESCRIPTION:
URL:https://saintmaroncleveland.org/event/divine-liturgy-5th-sunday-of-the-resurrection-downtown/
LOCATION:St. Maron Church Downtown\, 1245 Carnegie Ave\, Cleveland\, Ohio\, 44115
CATEGORIES:Divine Liturgy
END:VEVENT
BEGIN:VEVENT
DTSTART;TZID=America/New_York:20260503T110000
DTEND;TZID=America/New_York:20260503T120000
DTSTAMP:20260419T134909
CREATED:20260408T183824Z
LAST-MODIFIED:20260408T183824Z
UID:6845-1777806000-1777809600@saintmaroncleveland.org
SUMMARY:Divine Liturgy: 5th Sunday of the Resurrection - Downtown
DESCRIPTION:
URL:https://saintmaroncleveland.org/event/divine-liturgy-5th-sunday-of-the-resurrection-downtown-2/
LOCATION:St. Maron Church Downtown\, 1245 Carnegie Ave\, Cleveland\, Ohio\, 44115
CATEGORIES:Divine Liturgy
END:VEVENT
BEGIN:VEVENT
DTSTART;TZID=America/New_York:20260505T180000
DTEND;TZID=America/New_York:20260505T190000
DTSTAMP:20260419T134909
CREATED:20260403T182205Z
LAST-MODIFIED:20260403T182205Z
UID:6768-1778004000-1778007600@saintmaroncleveland.org
SUMMARY:Divine Liturgy
DESCRIPTION:
URL:https://saintmaroncleveland.org/event/divine-liturgy-16/
LOCATION:St. Maron Chapel – Independence\, 7800 Brookside Rd\, Independence\, OH\, 44131\, United States
CATEGORIES:Divine Liturgy
END:VEVENT
BEGIN:VEVENT
DTSTART;TZID=America/New_York:20260506T180000
DTEND;TZID=America/New_York:20260506T190000
DTSTAMP:20260419T134909
CREATED:20260403T182245Z
LAST-MODIFIED:20260403T182245Z
UID:6770-1778090400-1778094000@saintmaroncleveland.org
SUMMARY:Divine Liturgy
DESCRIPTION:
URL:https://saintmaroncleveland.org/event/divine-liturgy-17/
LOCATION:St. Maron Chapel – Independence\, 7800 Brookside Rd\, Independence\, OH\, 44131\, United States
CATEGORIES:Divine Liturgy
END:VEVENT
BEGIN:VEVENT
DTSTART;TZID=America/New_York:20260507T080000
DTEND;TZID=America/New_York:20260507T170000
DTSTAMP:20260419T134909
CREATED:20260403T182306Z
LAST-MODIFIED:20260403T182306Z
UID:6772-1778140800-1778173200@saintmaroncleveland.org
SUMMARY:Divine Liturgy
DESCRIPTION:
URL:https://saintmaroncleveland.org/event/divine-liturgy-19/
LOCATION:St. Maron Chapel – Independence\, 7800 Brookside Rd\, Independence\, OH\, 44131\, United States
CATEGORIES:Divine Liturgy
END:VEVENT
BEGIN:VEVENT
DTSTART;TZID=America/New_York:20260509T170000
DTEND;TZID=America/New_York:20260509T180000
DTSTAMP:20260419T134909
CREATED:20260408T184046Z
LAST-MODIFIED:20260408T184046Z
UID:6849-1778346000-1778349600@saintmaroncleveland.org
SUMMARY:Divine Liturgy: 6th Sunday of the Resurrection - Chapel
DESCRIPTION:
URL:https://saintmaroncleveland.org/event/divine-liturgy-6th-sunday-of-the-resurrection-chapel/
LOCATION:St. Maron Chapel – Independence\, 7800 Brookside Rd\, Independence\, OH\, 44131\, United States
CATEGORIES:Divine Liturgy
END:VEVENT
BEGIN:VEVENT
DTSTART;TZID=America/New_York:20260510T093000
DTEND;TZID=America/New_York:20260510T103000
DTSTAMP:20260419T134909
CREATED:20260408T184118Z
LAST-MODIFIED:20260408T184119Z
UID:6851-1778405400-1778409000@saintmaroncleveland.org
SUMMARY:Divine Liturgy: 6th Sunday of the Resurrection - Downtown
DESCRIPTION:
URL:https://saintmaroncleveland.org/event/divine-liturgy-6th-sunday-of-the-resurrection-downtown/
LOCATION:St. Maron Church Downtown\, 1245 Carnegie Ave\, Cleveland\, Ohio\, 44115
CATEGORIES:Divine Liturgy
END:VEVENT
END:VCALENDAR