BEGIN:VCALENDAR
VERSION:2.0
PRODID:-//Saint Maron Church - ECPv6.15.20//NONSGML v1.0//EN
CALSCALE:GREGORIAN
METHOD:PUBLISH
X-WR-CALNAME:Saint Maron Church
X-ORIGINAL-URL:https://saintmaroncleveland.org
X-WR-CALDESC:Events for Saint Maron Church
REFRESH-INTERVAL;VALUE=DURATION:PT1H
X-Robots-Tag:noindex
X-PUBLISHED-TTL:PT1H
BEGIN:VTIMEZONE
TZID:America/New_York
BEGIN:DAYLIGHT
TZOFFSETFROM:-0500
TZOFFSETTO:-0400
TZNAME:EDT
DTSTART:20240310T070000
END:DAYLIGHT
BEGIN:STANDARD
TZOFFSETFROM:-0400
TZOFFSETTO:-0500
TZNAME:EST
DTSTART:20241103T060000
END:STANDARD
BEGIN:DAYLIGHT
TZOFFSETFROM:-0500
TZOFFSETTO:-0400
TZNAME:EDT
DTSTART:20250309T070000
END:DAYLIGHT
BEGIN:STANDARD
TZOFFSETFROM:-0400
TZOFFSETTO:-0500
TZNAME:EST
DTSTART:20251102T060000
END:STANDARD
BEGIN:DAYLIGHT
TZOFFSETFROM:-0500
TZOFFSETTO:-0400
TZNAME:EDT
DTSTART:20260308T070000
END:DAYLIGHT
BEGIN:STANDARD
TZOFFSETFROM:-0400
TZOFFSETTO:-0500
TZNAME:EST
DTSTART:20261101T060000
END:STANDARD
END:VTIMEZONE
BEGIN:VEVENT
DTSTART;TZID=America/New_York:20251120T190000
DTEND;TZID=America/New_York:20251120T200000
DTSTAMP:20260424T063718
CREATED:20251031T134832Z
LAST-MODIFIED:20251114T152706Z
UID:6005-1763665200-1763668800@saintmaroncleveland.org
SUMMARY:Book Club
DESCRIPTION:Please mark your calendars for Thursday\, November 20th. Since it is\nthe Thursday before Thanksgiving\, our theme/topic of discussion will\nbe giving thanks! \nPlease come with your stories of gratitude and opinions on how you\ndefine thankfulness. If you wish to bring a snack\, feel free to make it\nThanksgiving themed. NO RSVP NECESSARY.
URL:https://saintmaroncleveland.org/event/book-club/
LOCATION:OH
CATEGORIES:Book and Cine Club,Ministries & Events
END:VEVENT
END:VCALENDAR