BEGIN:VCALENDAR
VERSION:2.0
PRODID:-//Saint Maron Church - ECPv6.15.20//NONSGML v1.0//EN
CALSCALE:GREGORIAN
METHOD:PUBLISH
X-WR-CALNAME:Saint Maron Church
X-ORIGINAL-URL:http://saintmaroncleveland.org
X-WR-CALDESC:Events for Saint Maron Church
REFRESH-INTERVAL;VALUE=DURATION:PT1H
X-Robots-Tag:noindex
X-PUBLISHED-TTL:PT1H
BEGIN:VTIMEZONE
TZID:America/New_York
BEGIN:DAYLIGHT
TZOFFSETFROM:-0500
TZOFFSETTO:-0400
TZNAME:EDT
DTSTART:20250309T070000
END:DAYLIGHT
BEGIN:STANDARD
TZOFFSETFROM:-0400
TZOFFSETTO:-0500
TZNAME:EST
DTSTART:20251102T060000
END:STANDARD
BEGIN:DAYLIGHT
TZOFFSETFROM:-0500
TZOFFSETTO:-0400
TZNAME:EDT
DTSTART:20260308T070000
END:DAYLIGHT
BEGIN:STANDARD
TZOFFSETFROM:-0400
TZOFFSETTO:-0500
TZNAME:EST
DTSTART:20261101T060000
END:STANDARD
BEGIN:DAYLIGHT
TZOFFSETFROM:-0500
TZOFFSETTO:-0400
TZNAME:EDT
DTSTART:20270314T070000
END:DAYLIGHT
BEGIN:STANDARD
TZOFFSETFROM:-0400
TZOFFSETTO:-0500
TZNAME:EST
DTSTART:20271107T060000
END:STANDARD
END:VTIMEZONE
BEGIN:VEVENT
DTSTART;TZID=America/New_York:20260407T180000
DTEND;TZID=America/New_York:20260407T190000
DTSTAMP:20260419T203749
CREATED:20260317T212925Z
LAST-MODIFIED:20260317T212925Z
UID:6687-1775584800-1775588400@saintmaroncleveland.org
SUMMARY:Divine Liturgy
DESCRIPTION:
URL:http://saintmaroncleveland.org/event/divine-liturgy-4/
LOCATION:St. Maron Chapel – Independence\, 7800 Brookside Rd\, Independence\, OH\, 44131\, United States
CATEGORIES:Divine Liturgy
END:VEVENT
BEGIN:VEVENT
DTSTART;VALUE=DATE:20260407
DTEND;VALUE=DATE:20260408
DTSTAMP:20260419T203749
CREATED:20260317T212032Z
LAST-MODIFIED:20260317T212032Z
UID:6661-1775520000-1775606399@saintmaroncleveland.org
SUMMARY:Feast Day: St. John Baptist de la Salle
DESCRIPTION:
URL:http://saintmaroncleveland.org/event/feast-day-st-john-baptist-de-la-salle/
CATEGORIES:Feast Day
END:VEVENT
BEGIN:VEVENT
DTSTART;TZID=America/New_York:20260405T110000
DTEND;TZID=America/New_York:20260405T120000
DTSTAMP:20260419T203749
CREATED:20260315T153118Z
LAST-MODIFIED:20260315T154356Z
UID:6644-1775386800-1775390400@saintmaroncleveland.org
SUMMARY:Resurrection Divine Liturgy - Downtown
DESCRIPTION:
URL:http://saintmaroncleveland.org/event/ressurection-divine-liturgy-downtown/
LOCATION:St. Maron Church Downtown\, 1245 Carnegie Ave\, Cleveland\, Ohio\, 44115
CATEGORIES:Divine Liturgy
END:VEVENT
BEGIN:VEVENT
DTSTART;TZID=America/New_York:20260405T000000
DTEND;TZID=America/New_York:20260405T010000
DTSTAMP:20260419T203749
CREATED:20260315T152917Z
LAST-MODIFIED:20260315T154405Z
UID:6642-1775347200-1775350800@saintmaroncleveland.org
SUMMARY:Midnight Resurrection Divine Liturgy - Downtown
DESCRIPTION:
URL:http://saintmaroncleveland.org/event/midnight-resurrection-divine-liturgy-downtown/
LOCATION:St. Maron Church Downtown\, 1245 Carnegie Ave\, Cleveland\, Ohio\, 44115
CATEGORIES:Divine Liturgy
END:VEVENT
BEGIN:VEVENT
DTSTART;TZID=America/New_York:20260404T170000
DTEND;TZID=America/New_York:20260404T180000
DTSTAMP:20260419T203749
CREATED:20260315T152800Z
LAST-MODIFIED:20260315T154410Z
UID:6640-1775322000-1775325600@saintmaroncleveland.org
SUMMARY:Resurrection Vigil Liturgy - Chapel
DESCRIPTION:
URL:http://saintmaroncleveland.org/event/resurrection-vigil-liturgy-chapel/
LOCATION:St. Maron Chapel – Independence\, 7800 Brookside Rd\, Independence\, OH\, 44131\, United States
CATEGORIES:Divine Liturgy
END:VEVENT
BEGIN:VEVENT
DTSTART;TZID=America/New_York:20260404T113000
DTEND;TZID=America/New_York:20260404T123000
DTSTAMP:20260419T203749
CREATED:20260315T152659Z
LAST-MODIFIED:20260315T152659Z
UID:6638-1775302200-1775305800@saintmaroncleveland.org
SUMMARY:The Liturgy of the Reconciliation - Chapel
DESCRIPTION:
URL:http://saintmaroncleveland.org/event/the-liturgy-of-the-reconciliation-chapel/
LOCATION:St. Maron Chapel – Independence\, 7800 Brookside Rd\, Independence\, OH\, 44131\, United States
CATEGORIES:Divine Liturgy
END:VEVENT
BEGIN:VEVENT
DTSTART;VALUE=DATE:20260404
DTEND;VALUE=DATE:20260405
DTSTAMP:20260419T203749
CREATED:20260212T215859Z
LAST-MODIFIED:20260212T215916Z
UID:6487-1775260800-1775347199@saintmaroncleveland.org
SUMMARY:Great Saturday of the Light
DESCRIPTION:
URL:http://saintmaroncleveland.org/event/great-saturday-of-the-light/
END:VEVENT
BEGIN:VEVENT
DTSTART;TZID=America/New_York:20260403T191500
DTEND;TZID=America/New_York:20260403T201500
DTSTAMP:20260419T203749
CREATED:20260315T152542Z
LAST-MODIFIED:20260315T152543Z
UID:6636-1775243700-1775247300@saintmaroncleveland.org
SUMMARY:Adoration of the Crucified - Downtown
DESCRIPTION:
URL:http://saintmaroncleveland.org/event/adoration-of-the-crucified-downtown/
LOCATION:St. Maron Church Downtown\, 1245 Carnegie Ave\, Cleveland\, Ohio\, 44115
END:VEVENT
BEGIN:VEVENT
DTSTART;TZID=America/New_York:20260403T160000
DTEND;TZID=America/New_York:20260403T170000
DTSTAMP:20260419T203749
CREATED:20260315T152455Z
LAST-MODIFIED:20260315T152455Z
UID:6634-1775232000-1775235600@saintmaroncleveland.org
SUMMARY:Adoration of the Crucified - Chapel
DESCRIPTION:
URL:http://saintmaroncleveland.org/event/adoration-of-the-crucified-chapel/
LOCATION:St. Maron Chapel – Independence\, 7800 Brookside Rd\, Independence\, OH\, 44131\, United States
END:VEVENT
BEGIN:VEVENT
DTSTART;TZID=America/New_York:20260403T090000
DTEND;TZID=America/New_York:20260403T100000
DTSTAMP:20260419T203749
CREATED:20260315T152336Z
LAST-MODIFIED:20260315T152336Z
UID:6632-1775206800-1775210400@saintmaroncleveland.org
SUMMARY:Signing of the Chalice - Chapel
DESCRIPTION:
URL:http://saintmaroncleveland.org/event/signing-of-the-chalice-chapel/
LOCATION:St. Maron Chapel – Independence\, 7800 Brookside Rd\, Independence\, OH\, 44131\, United States
END:VEVENT
BEGIN:VEVENT
DTSTART;VALUE=DATE:20260403
DTEND;VALUE=DATE:20260404
DTSTAMP:20260419T203749
CREATED:20260212T215832Z
LAST-MODIFIED:20260212T215837Z
UID:6485-1775174400-1775260799@saintmaroncleveland.org
SUMMARY:Great Friday of the Crucifixion
DESCRIPTION:
URL:http://saintmaroncleveland.org/event/great-friday-of-the-crucifixion/
END:VEVENT
BEGIN:VEVENT
DTSTART;TZID=America/New_York:20260402T190000
DTEND;TZID=America/New_York:20260402T203000
DTSTAMP:20260419T203749
CREATED:20260315T152244Z
LAST-MODIFIED:20260315T154648Z
UID:6630-1775156400-1775161800@saintmaroncleveland.org
SUMMARY:Rite of the Washing of the Feet & Divine Liturgy - Followed by Eucharistic Adoration (Downtown)
DESCRIPTION:
URL:http://saintmaroncleveland.org/event/rite-of-the-washing-of-the-feet-divine-liturgy-followed-by-eucharistic-adoration/
LOCATION:St. Maron Church Downtown\, 1245 Carnegie Ave\, Cleveland\, Ohio\, 44115
CATEGORIES:Divine Liturgy
END:VEVENT
BEGIN:VEVENT
DTSTART;TZID=America/New_York:20260401T180000
DTEND;TZID=America/New_York:20260401T190000
DTSTAMP:20260419T203749
CREATED:20260315T152054Z
LAST-MODIFIED:20260315T153524Z
UID:6628-1775066400-1775070000@saintmaroncleveland.org
SUMMARY:Divine Liturgy & Rite of Lamp - Downtown
DESCRIPTION:
URL:http://saintmaroncleveland.org/event/divine-liturgy-rite-of-lamp/
LOCATION:St. Maron Church Downtown\, 1245 Carnegie Ave\, Cleveland\, Ohio\, 44115
CATEGORIES:Divine Liturgy
END:VEVENT
BEGIN:VEVENT
DTSTART;TZID=America/New_York:20260401T170000
DTEND;TZID=America/New_York:20260401T180000
DTSTAMP:20260419T203749
CREATED:20260315T151936Z
LAST-MODIFIED:20260315T153516Z
UID:6626-1775062800-1775066400@saintmaroncleveland.org
SUMMARY:Reconciliation - Downtown
DESCRIPTION:  \n 
URL:http://saintmaroncleveland.org/event/reconciliation-downtown/
LOCATION:St. Maron Church Downtown\, 1245 Carnegie Ave\, Cleveland\, Ohio\, 44115
END:VEVENT
BEGIN:VEVENT
DTSTART;TZID=America/New_York:20260331T180000
DTEND;TZID=America/New_York:20260331T190000
DTSTAMP:20260419T203749
CREATED:20260315T151843Z
LAST-MODIFIED:20260315T153458Z
UID:6624-1774980000-1774983600@saintmaroncleveland.org
SUMMARY:Divine Liturgy & Benediction of the Cross - Chapel
DESCRIPTION:
URL:http://saintmaroncleveland.org/event/divine-liturgy-benediction-of-the-cross-2/
LOCATION:St. Maron Chapel – Independence\, 7800 Brookside Rd\, Independence\, OH\, 44131\, United States
CATEGORIES:Divine Liturgy
END:VEVENT
BEGIN:VEVENT
DTSTART;TZID=America/New_York:20260331T170000
DTEND;TZID=America/New_York:20260331T180000
DTSTAMP:20260419T203749
CREATED:20260315T151755Z
LAST-MODIFIED:20260315T153448Z
UID:6622-1774976400-1774980000@saintmaroncleveland.org
SUMMARY:Reconciliation - Chapel
DESCRIPTION:Confessions – Tuesday of Holy Week
URL:http://saintmaroncleveland.org/event/reconciliation-2/
LOCATION:St. Maron Chapel – Independence\, 7800 Brookside Rd\, Independence\, OH\, 44131\, United States
END:VEVENT
BEGIN:VEVENT
DTSTART;TZID=America/New_York:20260330T180000
DTEND;TZID=America/New_York:20260330T190000
DTSTAMP:20260419T203749
CREATED:20260315T151704Z
LAST-MODIFIED:20260315T153442Z
UID:6620-1774893600-1774897200@saintmaroncleveland.org
SUMMARY:Divine Liturgy & Benediction of the Cross - Chapel
DESCRIPTION:
URL:http://saintmaroncleveland.org/event/divine-liturgy-benediction-of-the-cross/
LOCATION:St. Maron Chapel – Independence\, 7800 Brookside Rd\, Independence\, OH\, 44131\, United States
CATEGORIES:Divine Liturgy
END:VEVENT
BEGIN:VEVENT
DTSTART;TZID=America/New_York:20260330T170000
DTEND;TZID=America/New_York:20260330T180000
DTSTAMP:20260419T203749
CREATED:20260315T151551Z
LAST-MODIFIED:20260315T153430Z
UID:6618-1774890000-1774893600@saintmaroncleveland.org
SUMMARY:Reconciliation - Chapel
DESCRIPTION:Confessions – Monday of Holy Week
URL:http://saintmaroncleveland.org/event/reconciliation/
LOCATION:St. Maron Chapel – Independence\, 7800 Brookside Rd\, Independence\, OH\, 44131\, United States
END:VEVENT
BEGIN:VEVENT
DTSTART;VALUE=DATE:20260330
DTEND;VALUE=DATE:20260405
DTSTAMP:20260419T203749
CREATED:20260212T224634Z
LAST-MODIFIED:20260212T224702Z
UID:6545-1774828800-1775347199@saintmaroncleveland.org
SUMMARY:Passion Week
DESCRIPTION:
URL:http://saintmaroncleveland.org/event/passion-week/
END:VEVENT
BEGIN:VEVENT
DTSTART;VALUE=DATE:20260330
DTEND;VALUE=DATE:20260331
DTSTAMP:20260419T203749
CREATED:20260212T215556Z
LAST-MODIFIED:20260212T215556Z
UID:6481-1774828800-1774915199@saintmaroncleveland.org
SUMMARY:St. John Climacus
DESCRIPTION:
URL:http://saintmaroncleveland.org/event/st-john-climacus/
CATEGORIES:Feast Day
END:VEVENT
BEGIN:VEVENT
DTSTART;TZID=America/New_York:20260329T180000
DTEND;TZID=America/New_York:20260329T190000
DTSTAMP:20260419T203749
CREATED:20260315T151338Z
LAST-MODIFIED:20260315T153329Z
UID:6616-1774807200-1774810800@saintmaroncleveland.org
SUMMARY:Coming to the Harbor - Chapel
DESCRIPTION:
URL:http://saintmaroncleveland.org/event/coming-to-the-harbor/
LOCATION:St. Maron Chapel – Independence\, 7800 Brookside Rd\, Independence\, OH\, 44131\, United States
END:VEVENT
BEGIN:VEVENT
DTSTART;TZID=America/New_York:20260329T110000
DTEND;TZID=America/New_York:20260329T120000
DTSTAMP:20260419T203749
CREATED:20260212T224514Z
LAST-MODIFIED:20260212T224514Z
UID:6543-1774782000-1774785600@saintmaroncleveland.org
SUMMARY:Hosanna Sunday (Palm Sunday) - Downtown
DESCRIPTION:
URL:http://saintmaroncleveland.org/event/hosanna-sunday-palm-sunday-independence-2-2/
LOCATION:St. Maron Church Downtown\, 1245 Carnegie Ave\, Cleveland\, Ohio\, 44115
CATEGORIES:Divine Liturgy
END:VEVENT
BEGIN:VEVENT
DTSTART;TZID=America/New_York:20260329T090000
DTEND;TZID=America/New_York:20260329T103000
DTSTAMP:20260419T203749
CREATED:20260212T224452Z
LAST-MODIFIED:20260315T150851Z
UID:6541-1774774800-1774780200@saintmaroncleveland.org
SUMMARY:Hosanna Sunday (Palm Sunday) - Downtown
DESCRIPTION:
URL:http://saintmaroncleveland.org/event/hosanna-sunday-palm-sunday-independence-2/
LOCATION:St. Maron Church Downtown\, 1245 Carnegie Ave\, Cleveland\, Ohio\, 44115
CATEGORIES:Divine Liturgy
END:VEVENT
BEGIN:VEVENT
DTSTART;TZID=America/New_York:20260328T170000
DTEND;TZID=America/New_York:20260328T180000
DTSTAMP:20260419T203749
CREATED:20260212T224413Z
LAST-MODIFIED:20260315T153849Z
UID:6539-1774717200-1774720800@saintmaroncleveland.org
SUMMARY:Hosanna Sunday (Palm Sunday) - Chapel
DESCRIPTION:
URL:http://saintmaroncleveland.org/event/hosanna-sunday-palm-sunday-independence/
LOCATION:St. Maron Chapel – Independence\, 7800 Brookside Rd\, Independence\, OH\, 44131\, United States
CATEGORIES:Divine Liturgy
END:VEVENT
BEGIN:VEVENT
DTSTART;VALUE=DATE:20260328
DTEND;VALUE=DATE:20260329
DTSTAMP:20260419T203749
CREATED:20260212T215422Z
LAST-MODIFIED:20260212T215519Z
UID:6479-1774656000-1774742399@saintmaroncleveland.org
SUMMARY:Lazarus Saturday
DESCRIPTION:
URL:http://saintmaroncleveland.org/event/lazarus-saturday/
END:VEVENT
BEGIN:VEVENT
DTSTART;TZID=America/New_York:20260327T183000
DTEND;TZID=America/New_York:20260327T193000
DTSTAMP:20260419T203749
CREATED:20260220T143809Z
LAST-MODIFIED:20260220T143809Z
UID:6560-1774636200-1774639800@saintmaroncleveland.org
SUMMARY:Way of the Cross & Benediction of the Cross
DESCRIPTION:Every Friday during Lent at 6:30 PM – Saint Maron Church Downtown \nMeatless Potluck to follow
URL:http://saintmaroncleveland.org/event/way-of-the-cross-benediction-of-the-cross-6/
LOCATION:St. Maron Church Downtown\, 1245 Carnegie Ave\, Cleveland\, Ohio\, 44115
CATEGORIES:Ministries & Events
END:VEVENT
BEGIN:VEVENT
DTSTART;TZID=America/New_York:20260327T160000
DTEND;TZID=America/New_York:20260327T203000
DTSTAMP:20260419T203749
CREATED:20260315T150433Z
LAST-MODIFIED:20260315T153355Z
UID:6612-1774627200-1774643400@saintmaroncleveland.org
SUMMARY:Parish Lenten Retreat - Downtown
DESCRIPTION:
URL:http://saintmaroncleveland.org/event/parish-lenten-retreat/
LOCATION:St. Maron Church Downtown\, 1245 Carnegie Ave\, Cleveland\, Ohio\, 44115
CATEGORIES:Divine Liturgy,Ministries & Events
ATTACH;FMTTYPE=image/png:http://saintmaroncleveland.org/wp-content/uploads/2026/03/Screen-Shot-2026-03-15-at-11.03.20-AM.png
END:VEVENT
BEGIN:VEVENT
DTSTART;VALUE=DATE:20260327
DTEND;VALUE=DATE:20260328
DTSTAMP:20260419T203749
CREATED:20260212T215356Z
LAST-MODIFIED:20260212T215356Z
UID:6477-1774569600-1774655999@saintmaroncleveland.org
SUMMARY:Temptation of Jesus in the Wilderness
DESCRIPTION:
URL:http://saintmaroncleveland.org/event/temptation-of-jesus-in-the-wilderness/
END:VEVENT
BEGIN:VEVENT
DTSTART;TZID=America/New_York:20260326T180000
DTEND;TZID=America/New_York:20260326T190000
DTSTAMP:20260419T203749
CREATED:20260212T222612Z
LAST-MODIFIED:20260212T222612Z
UID:6515-1774548000-1774551600@saintmaroncleveland.org
SUMMARY:Divine Liturgy
DESCRIPTION:Location: Independence Chapel
URL:http://saintmaroncleveland.org/event/divine-liturgy-3-2-2-2-2-2-2-2-2-2-2/
LOCATION:St. Maron Chapel – Independence\, 7800 Brookside Rd\, Independence\, OH\, 44131\, United States
CATEGORIES:Divine Liturgy
END:VEVENT
BEGIN:VEVENT
DTSTART;VALUE=DATE:20260326
DTEND;VALUE=DATE:20260327
DTSTAMP:20260419T203749
CREATED:20260212T215152Z
LAST-MODIFIED:20260212T215152Z
UID:6475-1774483200-1774569599@saintmaroncleveland.org
SUMMARY:St. Gabriel the Archangel
DESCRIPTION:
URL:http://saintmaroncleveland.org/event/st-gabriel-the-archangel/
CATEGORIES:Feast Day
END:VEVENT
END:VCALENDAR