BEGIN:VCALENDAR
VERSION:2.0
PRODID:-//Saint Maron Church - ECPv6.15.20//NONSGML v1.0//EN
CALSCALE:GREGORIAN
METHOD:PUBLISH
X-WR-CALNAME:Saint Maron Church
X-ORIGINAL-URL:http://saintmaroncleveland.org
X-WR-CALDESC:Events for Saint Maron Church
REFRESH-INTERVAL;VALUE=DURATION:PT1H
X-Robots-Tag:noindex
X-PUBLISHED-TTL:PT1H
BEGIN:VTIMEZONE
TZID:America/New_York
BEGIN:DAYLIGHT
TZOFFSETFROM:-0500
TZOFFSETTO:-0400
TZNAME:EDT
DTSTART:20240310T070000
END:DAYLIGHT
BEGIN:STANDARD
TZOFFSETFROM:-0400
TZOFFSETTO:-0500
TZNAME:EST
DTSTART:20241103T060000
END:STANDARD
BEGIN:DAYLIGHT
TZOFFSETFROM:-0500
TZOFFSETTO:-0400
TZNAME:EDT
DTSTART:20250309T070000
END:DAYLIGHT
BEGIN:STANDARD
TZOFFSETFROM:-0400
TZOFFSETTO:-0500
TZNAME:EST
DTSTART:20251102T060000
END:STANDARD
BEGIN:DAYLIGHT
TZOFFSETFROM:-0500
TZOFFSETTO:-0400
TZNAME:EDT
DTSTART:20260308T070000
END:DAYLIGHT
BEGIN:STANDARD
TZOFFSETFROM:-0400
TZOFFSETTO:-0500
TZNAME:EST
DTSTART:20261101T060000
END:STANDARD
END:VTIMEZONE
BEGIN:VEVENT
DTSTART;TZID=America/New_York:20251014T180000
DTEND;TZID=America/New_York:20251014T180000
DTSTAMP:20260423T030534
CREATED:20250908T201646Z
LAST-MODIFIED:20250910T213925Z
UID:5140-1760464800-1760464800@saintmaroncleveland.org
SUMMARY:Divine Liturgy
DESCRIPTION:Location: Chapel – Independence
URL:http://saintmaroncleveland.org/event/divine-liturgy-46/
LOCATION:OH
CATEGORIES:Divine Liturgy
END:VEVENT
BEGIN:VEVENT
DTSTART;VALUE=DATE:20251013
DTEND;VALUE=DATE:20251014
DTSTAMP:20260423T030534
CREATED:20250908T202623Z
LAST-MODIFIED:20251013T175458Z
UID:5226-1760313600-1760399999@saintmaroncleveland.org
SUMMARY:Columbus Day
DESCRIPTION:Holiday
URL:http://saintmaroncleveland.org/event/columbus-day/
LOCATION:OH
CATEGORIES:Holiday
END:VEVENT
BEGIN:VEVENT
DTSTART;TZID=America/New_York:20251012T110000
DTEND;TZID=America/New_York:20251012T120000
DTSTAMP:20260423T030534
CREATED:20250910T205239Z
LAST-MODIFIED:20250910T205239Z
UID:5597-1760266800-1760270400@saintmaroncleveland.org
SUMMARY:4th Sunday after Holy Cross
DESCRIPTION:Location: Downtown
URL:http://saintmaroncleveland.org/event/4th-sunday-after-holy-cross-3/
LOCATION:OH
CATEGORIES:Divine Liturgy
END:VEVENT
BEGIN:VEVENT
DTSTART;TZID=America/New_York:20251012T093000
DTEND;TZID=America/New_York:20251012T103000
DTSTAMP:20260423T030534
CREATED:20250910T205238Z
LAST-MODIFIED:20250910T205238Z
UID:5596-1760261400-1760265000@saintmaroncleveland.org
SUMMARY:4th Sunday after Holy Cross
DESCRIPTION:Location: Downtown
URL:http://saintmaroncleveland.org/event/4th-sunday-after-holy-cross-2/
LOCATION:OH
CATEGORIES:Divine Liturgy
END:VEVENT
BEGIN:VEVENT
DTSTART;TZID=America/New_York:20251011T170000
DTEND;TZID=America/New_York:20251011T180000
DTSTAMP:20260423T030534
CREATED:20250910T205227Z
LAST-MODIFIED:20250910T205227Z
UID:5595-1760202000-1760205600@saintmaroncleveland.org
SUMMARY:4th Sunday after Holy Cross
DESCRIPTION:Location: Chapel – Independence
URL:http://saintmaroncleveland.org/event/4th-sunday-after-holy-cross/
LOCATION:OH
CATEGORIES:Divine Liturgy
END:VEVENT
BEGIN:VEVENT
DTSTART;TZID=America/New_York:20251011T143000
DTEND;TZID=America/New_York:20251011T163000
DTSTAMP:20260423T030534
CREATED:20250910T204919Z
LAST-MODIFIED:20251006T193613Z
UID:5569-1760193000-1760200200@saintmaroncleveland.org
SUMMARY:Fall Fest - MYC
DESCRIPTION:Location: Parish Center (Independence) \nTime: 2:30 p.m. – 4:30 p.m. \nLiturgy to follow \nPlease bring a dish to share \nCostume are welcome to be worn
URL:http://saintmaroncleveland.org/event/fall-fest-mmc/
LOCATION:OH
CATEGORIES:Maronite Young Children,Ministries & Events
END:VEVENT
BEGIN:VEVENT
DTSTART;TZID=America/New_York:20251011T140000
DTEND;TZID=America/New_York:20251011T183000
DTSTAMP:20260423T030534
CREATED:20250908T203000Z
LAST-MODIFIED:20251006T193641Z
UID:5259-1760191200-1760207400@saintmaroncleveland.org
SUMMARY:MYO Meeting
DESCRIPTION:2-6:30PM – MYO Day of Fun; Start of MYO Sponsored Canned Food Drive\nLocation: Topgolf\, Independence & Saint Maron Church\, Independence
URL:http://saintmaroncleveland.org/event/myo-meeting-5/
LOCATION:OH
CATEGORIES:Ministries & Events,MYO
END:VEVENT
BEGIN:VEVENT
DTSTART;TZID=America/New_York:20251009T180000
DTEND;TZID=America/New_York:20251009T180000
DTSTAMP:20260423T030534
CREATED:20250908T201646Z
LAST-MODIFIED:20250910T213904Z
UID:5139-1760032800-1760032800@saintmaroncleveland.org
SUMMARY:Divine Liturgy
DESCRIPTION:Location: Chapel – Independence
URL:http://saintmaroncleveland.org/event/divine-liturgy-45/
LOCATION:OH
CATEGORIES:Divine Liturgy
END:VEVENT
BEGIN:VEVENT
DTSTART;VALUE=DATE:20251009
DTEND;VALUE=DATE:20251010
DTSTAMP:20260423T030534
CREATED:20250908T202623Z
LAST-MODIFIED:20251007T153957Z
UID:5225-1759968000-1760054399@saintmaroncleveland.org
SUMMARY:St. James
DESCRIPTION:Feast Day
URL:http://saintmaroncleveland.org/event/st-james/
LOCATION:OH
CATEGORIES:Feast Day
END:VEVENT
BEGIN:VEVENT
DTSTART;TZID=America/New_York:20251008T180000
DTEND;TZID=America/New_York:20251008T180000
DTSTAMP:20260423T030534
CREATED:20250908T201646Z
LAST-MODIFIED:20250910T213852Z
UID:5138-1759946400-1759946400@saintmaroncleveland.org
SUMMARY:Divine Liturgy
DESCRIPTION:Location: Chapel – Independence
URL:http://saintmaroncleveland.org/event/divine-liturgy-44/
LOCATION:OH
CATEGORIES:Divine Liturgy
END:VEVENT
BEGIN:VEVENT
DTSTART;TZID=America/New_York:20251007T180000
DTEND;TZID=America/New_York:20251007T180000
DTSTAMP:20260423T030534
CREATED:20250908T201637Z
LAST-MODIFIED:20250910T213840Z
UID:5137-1759860000-1759860000@saintmaroncleveland.org
SUMMARY:Divine Liturgy
DESCRIPTION:Location: Chapel – Independence
URL:http://saintmaroncleveland.org/event/divine-liturgy-43/
LOCATION:OH
CATEGORIES:Divine Liturgy
END:VEVENT
BEGIN:VEVENT
DTSTART;VALUE=DATE:20251007
DTEND;VALUE=DATE:20251008
DTSTAMP:20260423T030534
CREATED:20250908T202622Z
LAST-MODIFIED:20251007T153916Z
UID:5224-1759795200-1759881599@saintmaroncleveland.org
SUMMARY:Sts. Sarkis (Sergius) and Bacchus
DESCRIPTION:Feast Day
URL:http://saintmaroncleveland.org/event/sts-sarkis-sergius-and-bacchus/
LOCATION:OH
CATEGORIES:Feast Day
END:VEVENT
BEGIN:VEVENT
DTSTART;TZID=America/New_York:20251006T180000
DTEND;TZID=America/New_York:20251006T180000
DTSTAMP:20260423T030534
CREATED:20250910T204919Z
LAST-MODIFIED:20251006T193658Z
UID:5568-1759773600-1759773600@saintmaroncleveland.org
SUMMARY:ICS Meeting
DESCRIPTION:Location: Chapel \nLiturgy: 6:00 p.m. \nMeeting: 7:00 p.m.
URL:http://saintmaroncleveland.org/event/ics/
LOCATION:OH
CATEGORIES:Immaculate Conception Sodality,Ministries & Events
END:VEVENT
BEGIN:VEVENT
DTSTART;VALUE=DATE:20251006
DTEND;VALUE=DATE:20251007
DTSTAMP:20260423T030534
CREATED:20250908T202622Z
LAST-MODIFIED:20251006T174844Z
UID:5223-1759708800-1759712400@saintmaroncleveland.org
SUMMARY:St. Thomas the Apostle
DESCRIPTION:Feast Day
URL:http://saintmaroncleveland.org/event/st-thomas-the-apostle/
LOCATION:OH
CATEGORIES:Feast Day
END:VEVENT
BEGIN:VEVENT
DTSTART;TZID=America/New_York:20251005T110000
DTEND;TZID=America/New_York:20251005T140000
DTSTAMP:20260423T030534
CREATED:20250926T150720Z
LAST-MODIFIED:20251006T193736Z
UID:5917-1759662000-1759672800@saintmaroncleveland.org
SUMMARY:Subdeacon Mario Ghosn Diaconal Ordination
DESCRIPTION:Please Join us to the Diaconate Ordination of Subdeacon Mario\nGhosn\, on Sunday October 5\, 2025\, Feast of Our Lady of the Rosary\, at 11:00 a.m. \nReception to follow at the Church Hall. \nCongratulations Mario. Your parish loves you and continues to pray\nfor you as you prepare yourself to become a Priest!
URL:http://saintmaroncleveland.org/event/subdeacon-mario-ghosn-diaconal-ordination/
LOCATION:OH
CATEGORIES:Divine Liturgy,Ministries & Events
END:VEVENT
BEGIN:VEVENT
DTSTART;TZID=America/New_York:20251005T110000
DTEND;TZID=America/New_York:20251005T120000
DTSTAMP:20260423T030534
CREATED:20250910T205227Z
LAST-MODIFIED:20250910T205227Z
UID:5594-1759662000-1759665600@saintmaroncleveland.org
SUMMARY:3rd Sunday after Holy Cross - Holy Rosary Sunday
DESCRIPTION:Location: Downtown
URL:http://saintmaroncleveland.org/event/3rd-sunday-after-holy-cross-holy-rosary-sunday-3/
LOCATION:OH
CATEGORIES:Divine Liturgy
END:VEVENT
BEGIN:VEVENT
DTSTART;TZID=America/New_York:20251005T093000
DTEND;TZID=America/New_York:20251005T103000
DTSTAMP:20260423T030534
CREATED:20250910T205224Z
LAST-MODIFIED:20250910T205224Z
UID:5593-1759656600-1759660200@saintmaroncleveland.org
SUMMARY:3rd Sunday after Holy Cross - Holy Rosary Sunday
DESCRIPTION:Location: Downtown
URL:http://saintmaroncleveland.org/event/3rd-sunday-after-holy-cross-holy-rosary-sunday-2/
LOCATION:OH
CATEGORIES:Divine Liturgy
END:VEVENT
BEGIN:VEVENT
DTSTART;TZID=America/New_York:20251004T170000
DTEND;TZID=America/New_York:20251004T180000
DTSTAMP:20260423T030534
CREATED:20250910T205224Z
LAST-MODIFIED:20250910T205224Z
UID:5592-1759597200-1759600800@saintmaroncleveland.org
SUMMARY:3rd Sunday after Holy Cross - Holy Rosary Sunday
DESCRIPTION:Location: Chapel – Independence
URL:http://saintmaroncleveland.org/event/3rd-sunday-after-holy-cross-holy-rosary-sunday/
LOCATION:OH
CATEGORIES:Divine Liturgy
END:VEVENT
BEGIN:VEVENT
DTSTART;VALUE=DATE:20251004
DTEND;VALUE=DATE:20251006
DTSTAMP:20260423T030534
CREATED:20250908T202615Z
LAST-MODIFIED:20250910T205806Z
UID:5222-1759536000-1759633199@saintmaroncleveland.org
SUMMARY:St. Francis of Assisi
DESCRIPTION:Feast Day
URL:http://saintmaroncleveland.org/event/st-francis-of-assisi/
LOCATION:OH
CATEGORIES:Feast Day
END:VEVENT
BEGIN:VEVENT
DTSTART;TZID=America/New_York:20251003T100000
DTEND;TZID=America/New_York:20251003T150000
DTSTAMP:20260423T030534
CREATED:20250910T204918Z
LAST-MODIFIED:20251006T193748Z
UID:5567-1759485600-1759503600@saintmaroncleveland.org
SUMMARY:50+ Social Club
DESCRIPTION:-Lunch at Chesterland Tavern\n-Apple picking at Patterson Farms ( 8765 Mulberry Rd)
URL:http://saintmaroncleveland.org/event/50-social-club-7/
LOCATION:OH
CATEGORIES:50+ Social Club,Ministries & Events
END:VEVENT
BEGIN:VEVENT
DTSTART;TZID=America/New_York:20251002T180000
DTEND;TZID=America/New_York:20251002T180000
DTSTAMP:20260423T030534
CREATED:20250908T201636Z
LAST-MODIFIED:20250910T213716Z
UID:5136-1759428000-1759428000@saintmaroncleveland.org
SUMMARY:Divine Liturgy
DESCRIPTION:Location: Chapel – Independence
URL:http://saintmaroncleveland.org/event/divine-liturgy-42/
LOCATION:OH
CATEGORIES:Divine Liturgy
END:VEVENT
BEGIN:VEVENT
DTSTART;VALUE=DATE:20251002
DTEND;VALUE=DATE:20251003
DTSTAMP:20260423T030534
CREATED:20250908T202614Z
LAST-MODIFIED:20250929T193615Z
UID:5221-1759363200-1759449540@saintmaroncleveland.org
SUMMARY:Sts. Cyprian and Justina
DESCRIPTION:Feast Day
URL:http://saintmaroncleveland.org/event/sts-cyprian-and-justina/
LOCATION:OH
CATEGORIES:Feast Day
END:VEVENT
BEGIN:VEVENT
DTSTART;TZID=America/New_York:20251001T180000
DTEND;TZID=America/New_York:20251001T180000
DTSTAMP:20260423T030534
CREATED:20250908T201636Z
LAST-MODIFIED:20250910T213656Z
UID:5135-1759341600-1759341600@saintmaroncleveland.org
SUMMARY:Divine Liturgy
DESCRIPTION:Location: Chapel – Independence
URL:http://saintmaroncleveland.org/event/divine-liturgy-41/
LOCATION:OH
CATEGORIES:Divine Liturgy
END:VEVENT
BEGIN:VEVENT
DTSTART;VALUE=DATE:20251001
DTEND;VALUE=DATE:20251002
DTSTAMP:20260423T030534
CREATED:20250908T202614Z
LAST-MODIFIED:20251013T180014Z
UID:5220-1759276800-1759363199@saintmaroncleveland.org
SUMMARY:St. Therese of the Child Jesus
DESCRIPTION:Feast Day
URL:http://saintmaroncleveland.org/event/st-therese-of-the-child-jesus/
LOCATION:OH
CATEGORIES:Feast Day
END:VEVENT
BEGIN:VEVENT
DTSTART;TZID=America/New_York:20250930T190000
DTEND;TZID=America/New_York:20250930T200000
DTSTAMP:20260423T030534
CREATED:20250910T204906Z
LAST-MODIFIED:20251006T193759Z
UID:5566-1759258800-1759262400@saintmaroncleveland.org
SUMMARY:Book and Cine Club
DESCRIPTION:Book and Cine Club
URL:http://saintmaroncleveland.org/event/book-and-cine-club/
LOCATION:OH
CATEGORIES:Book and Cine Club,Ministries & Events
END:VEVENT
BEGIN:VEVENT
DTSTART;TZID=America/New_York:20250930T180000
DTEND;TZID=America/New_York:20250930T180000
DTSTAMP:20260423T030534
CREATED:20250908T201636Z
LAST-MODIFIED:20250910T213732Z
UID:5134-1759255200-1759255200@saintmaroncleveland.org
SUMMARY:Divine Liturgy
DESCRIPTION:Location: Chapel – Independence
URL:http://saintmaroncleveland.org/event/divine-liturgy-40/
LOCATION:OH
CATEGORIES:Divine Liturgy
END:VEVENT
BEGIN:VEVENT
DTSTART;VALUE=DATE:20250930
DTEND;VALUE=DATE:20251002
DTSTAMP:20260423T030534
CREATED:20250908T202614Z
LAST-MODIFIED:20250910T205751Z
UID:5219-1759190400-1759287599@saintmaroncleveland.org
SUMMARY:St. Gregory the Illuminator
DESCRIPTION:Feast Day
URL:http://saintmaroncleveland.org/event/st-gregory-the-illuminator/
LOCATION:OH
CATEGORIES:Feast Day
END:VEVENT
BEGIN:VEVENT
DTSTART;TZID=America/New_York:20250928T110000
DTEND;TZID=America/New_York:20250928T120000
DTSTAMP:20260423T030534
CREATED:20250910T205210Z
LAST-MODIFIED:20250910T205210Z
UID:5591-1759057200-1759060800@saintmaroncleveland.org
SUMMARY:2nd Sunday after Holy Cross
DESCRIPTION:Location: Downtown
URL:http://saintmaroncleveland.org/event/2nd-sunday-after-holy-cross-3/
LOCATION:OH
CATEGORIES:Divine Liturgy
END:VEVENT
BEGIN:VEVENT
DTSTART;TZID=America/New_York:20250928T093000
DTEND;TZID=America/New_York:20250928T103000
DTSTAMP:20260423T030534
CREATED:20250910T205210Z
LAST-MODIFIED:20250910T205210Z
UID:5590-1759051800-1759055400@saintmaroncleveland.org
SUMMARY:2nd Sunday after Holy Cross
DESCRIPTION:Location: Downtown
URL:http://saintmaroncleveland.org/event/2nd-sunday-after-holy-cross-2/
LOCATION:OH
CATEGORIES:Divine Liturgy
END:VEVENT
BEGIN:VEVENT
DTSTART;TZID=America/New_York:20250927T170000
DTEND;TZID=America/New_York:20250927T180000
DTSTAMP:20260423T030534
CREATED:20250910T205210Z
LAST-MODIFIED:20250910T205210Z
UID:5589-1758992400-1758996000@saintmaroncleveland.org
SUMMARY:2nd Sunday after Holy Cross
DESCRIPTION:Location: Chapel – Independence
URL:http://saintmaroncleveland.org/event/2nd-sunday-after-holy-cross/
LOCATION:OH
CATEGORIES:Divine Liturgy
END:VEVENT
END:VCALENDAR