BEGIN:VCALENDAR
VERSION:2.0
PRODID:-//Saint Maron Church - ECPv6.15.20//NONSGML v1.0//EN
CALSCALE:GREGORIAN
METHOD:PUBLISH
X-WR-CALNAME:Saint Maron Church
X-ORIGINAL-URL:http://saintmaroncleveland.org
X-WR-CALDESC:Events for Saint Maron Church
REFRESH-INTERVAL;VALUE=DURATION:PT1H
X-Robots-Tag:noindex
X-PUBLISHED-TTL:PT1H
BEGIN:VTIMEZONE
TZID:America/New_York
BEGIN:DAYLIGHT
TZOFFSETFROM:-0500
TZOFFSETTO:-0400
TZNAME:EDT
DTSTART:20250309T070000
END:DAYLIGHT
BEGIN:STANDARD
TZOFFSETFROM:-0400
TZOFFSETTO:-0500
TZNAME:EST
DTSTART:20251102T060000
END:STANDARD
BEGIN:DAYLIGHT
TZOFFSETFROM:-0500
TZOFFSETTO:-0400
TZNAME:EDT
DTSTART:20260308T070000
END:DAYLIGHT
BEGIN:STANDARD
TZOFFSETFROM:-0400
TZOFFSETTO:-0500
TZNAME:EST
DTSTART:20261101T060000
END:STANDARD
BEGIN:DAYLIGHT
TZOFFSETFROM:-0500
TZOFFSETTO:-0400
TZNAME:EDT
DTSTART:20270314T070000
END:DAYLIGHT
BEGIN:STANDARD
TZOFFSETFROM:-0400
TZOFFSETTO:-0500
TZNAME:EST
DTSTART:20271107T060000
END:STANDARD
END:VTIMEZONE
BEGIN:VEVENT
DTSTART;VALUE=DATE:20260506
DTEND;VALUE=DATE:20260507
DTSTAMP:20260419T153946
CREATED:20260403T184000Z
LAST-MODIFIED:20260403T184000Z
UID:6801-1778025600-1778111999@saintmaroncleveland.org
SUMMARY:Feast Day: St. Dominic Savio
DESCRIPTION:
URL:http://saintmaroncleveland.org/event/feast-day-st-dominic-savio/
LOCATION:Ohio
CATEGORIES:Feast Day
END:VEVENT
BEGIN:VEVENT
DTSTART;TZID=America/New_York:20260506T180000
DTEND;TZID=America/New_York:20260506T190000
DTSTAMP:20260419T153946
CREATED:20260403T182245Z
LAST-MODIFIED:20260403T182245Z
UID:6770-1778090400-1778094000@saintmaroncleveland.org
SUMMARY:Divine Liturgy
DESCRIPTION:
URL:http://saintmaroncleveland.org/event/divine-liturgy-17/
LOCATION:St. Maron Chapel – Independence\, 7800 Brookside Rd\, Independence\, OH\, 44131\, United States
CATEGORIES:Divine Liturgy
END:VEVENT
BEGIN:VEVENT
DTSTART;TZID=America/New_York:20260506T180000
DTEND;TZID=America/New_York:20260506T220000
DTSTAMP:20260419T153946
CREATED:20260415T183159Z
LAST-MODIFIED:20260415T183159Z
UID:6884-1778090400-1778104800@saintmaroncleveland.org
SUMMARY:La Ville Lumière Fundraiser
DESCRIPTION:
URL:http://saintmaroncleveland.org/event/la-ville-lumiere-fundraiser/
LOCATION:La Ville Lumière\, 10427 Clifton Blvd\, Cleveland\, OH
CATEGORIES:Social
ATTACH;FMTTYPE=image/png:http://saintmaroncleveland.org/wp-content/uploads/2026/04/LVL-Fundraiser--scaled.png
END:VEVENT
BEGIN:VEVENT
DTSTART;TZID=America/New_York:20260507T080000
DTEND;TZID=America/New_York:20260507T170000
DTSTAMP:20260419T153946
CREATED:20260403T182306Z
LAST-MODIFIED:20260403T182306Z
UID:6772-1778140800-1778173200@saintmaroncleveland.org
SUMMARY:Divine Liturgy
DESCRIPTION:
URL:http://saintmaroncleveland.org/event/divine-liturgy-19/
LOCATION:St. Maron Chapel – Independence\, 7800 Brookside Rd\, Independence\, OH\, 44131\, United States
CATEGORIES:Divine Liturgy
END:VEVENT
BEGIN:VEVENT
DTSTART;VALUE=DATE:20260508
DTEND;VALUE=DATE:20260509
DTSTAMP:20260419T153946
CREATED:20260403T184032Z
LAST-MODIFIED:20260403T184046Z
UID:6803-1778198400-1778284799@saintmaroncleveland.org
SUMMARY:Feast Day: St. John the Evangelist
DESCRIPTION:
URL:http://saintmaroncleveland.org/event/feast-day-st-john-the-evangelist/
LOCATION:Ohio
CATEGORIES:Feast Day
END:VEVENT
BEGIN:VEVENT
DTSTART;VALUE=DATE:20260509
DTEND;VALUE=DATE:20260510
DTSTAMP:20260419T153946
CREATED:20260403T184154Z
LAST-MODIFIED:20260403T184154Z
UID:6805-1778284800-1778371199@saintmaroncleveland.org
SUMMARY:Feast Day: Isaiah the Prophet
DESCRIPTION:
URL:http://saintmaroncleveland.org/event/feast-day-isaiah-the-prophet/
LOCATION:Ohio
CATEGORIES:Feast Day
END:VEVENT
BEGIN:VEVENT
DTSTART;VALUE=DATE:20260509
DTEND;VALUE=DATE:20260510
DTSTAMP:20260419T153946
CREATED:20260403T184249Z
LAST-MODIFIED:20260403T184249Z
UID:6807-1778284800-1778371199@saintmaroncleveland.org
SUMMARY:The Second Council of Constantinople
DESCRIPTION:
URL:http://saintmaroncleveland.org/event/the-second-council-of-constantinople/
LOCATION:Ohio
END:VEVENT
BEGIN:VEVENT
DTSTART;TZID=America/New_York:20260509T170000
DTEND;TZID=America/New_York:20260509T180000
DTSTAMP:20260419T153946
CREATED:20260408T184046Z
LAST-MODIFIED:20260408T184046Z
UID:6849-1778346000-1778349600@saintmaroncleveland.org
SUMMARY:Divine Liturgy: 6th Sunday of the Resurrection - Chapel
DESCRIPTION:
URL:http://saintmaroncleveland.org/event/divine-liturgy-6th-sunday-of-the-resurrection-chapel/
LOCATION:St. Maron Chapel – Independence\, 7800 Brookside Rd\, Independence\, OH\, 44131\, United States
CATEGORIES:Divine Liturgy
END:VEVENT
BEGIN:VEVENT
DTSTART;VALUE=DATE:20260510
DTEND;VALUE=DATE:20260511
DTSTAMP:20260419T153946
CREATED:20260403T184333Z
LAST-MODIFIED:20260403T184334Z
UID:6809-1778371200-1778457599@saintmaroncleveland.org
SUMMARY:Mother's Day
DESCRIPTION:
URL:http://saintmaroncleveland.org/event/mothers-day/
LOCATION:Ohio
CATEGORIES:Holiday
END:VEVENT
BEGIN:VEVENT
DTSTART;VALUE=DATE:20260510
DTEND;VALUE=DATE:20260511
DTSTAMP:20260419T153946
CREATED:20260403T184428Z
LAST-MODIFIED:20260403T184428Z
UID:6811-1778371200-1778457599@saintmaroncleveland.org
SUMMARY:Feast Day: St. Simon the Zealot
DESCRIPTION:
URL:http://saintmaroncleveland.org/event/feast-day-st-simon-the-zealot/
LOCATION:Ohio
CATEGORIES:Feast Day
END:VEVENT
BEGIN:VEVENT
DTSTART;TZID=America/New_York:20260510T093000
DTEND;TZID=America/New_York:20260510T103000
DTSTAMP:20260419T153946
CREATED:20260408T184118Z
LAST-MODIFIED:20260408T184119Z
UID:6851-1778405400-1778409000@saintmaroncleveland.org
SUMMARY:Divine Liturgy: 6th Sunday of the Resurrection - Downtown
DESCRIPTION:
URL:http://saintmaroncleveland.org/event/divine-liturgy-6th-sunday-of-the-resurrection-downtown/
LOCATION:St. Maron Church Downtown\, 1245 Carnegie Ave\, Cleveland\, Ohio\, 44115
CATEGORIES:Divine Liturgy
END:VEVENT
BEGIN:VEVENT
DTSTART;TZID=America/New_York:20260510T110000
DTEND;TZID=America/New_York:20260510T120000
DTSTAMP:20260419T153946
CREATED:20260408T184234Z
LAST-MODIFIED:20260408T184234Z
UID:6853-1778410800-1778414400@saintmaroncleveland.org
SUMMARY:Divine Liturgy: 6th Sunday of the Resurrection - Downtown
DESCRIPTION:
URL:http://saintmaroncleveland.org/event/divine-liturgy-6th-sunday-of-the-resurrection-downtown-2/
LOCATION:St. Maron Church Downtown\, 1245 Carnegie Ave\, Cleveland\, Ohio\, 44115
CATEGORIES:Divine Liturgy
END:VEVENT
BEGIN:VEVENT
DTSTART;TZID=America/New_York:20260512T180000
DTEND;TZID=America/New_York:20260512T190000
DTSTAMP:20260419T153946
CREATED:20260403T182352Z
LAST-MODIFIED:20260403T182352Z
UID:6774-1778608800-1778612400@saintmaroncleveland.org
SUMMARY:Divine Liturgy
DESCRIPTION:
URL:http://saintmaroncleveland.org/event/divine-liturgy-20/
LOCATION:St. Maron Chapel – Independence\, 7800 Brookside Rd\, Independence\, OH\, 44131\, United States
CATEGORIES:Divine Liturgy
END:VEVENT
BEGIN:VEVENT
DTSTART;VALUE=DATE:20260513
DTEND;VALUE=DATE:20260514
DTSTAMP:20260419T153946
CREATED:20260408T182801Z
LAST-MODIFIED:20260408T182801Z
UID:6821-1778630400-1778716799@saintmaroncleveland.org
SUMMARY:Feast Day: St. Addai
DESCRIPTION:
URL:http://saintmaroncleveland.org/event/feast-day-st-addai/
LOCATION:Ohio
CATEGORIES:Feast Day
END:VEVENT
BEGIN:VEVENT
DTSTART;VALUE=DATE:20260513
DTEND;VALUE=DATE:20260514
DTSTAMP:20260419T153946
CREATED:20260408T182832Z
LAST-MODIFIED:20260408T182832Z
UID:6823-1778630400-1778716799@saintmaroncleveland.org
SUMMARY:Feast Day: Our Lady of Fatima
DESCRIPTION:
URL:http://saintmaroncleveland.org/event/feast-day-our-lady-of-fatima/
LOCATION:Ohio
CATEGORIES:Feast Day
END:VEVENT
BEGIN:VEVENT
DTSTART;TZID=America/New_York:20260513T180000
DTEND;TZID=America/New_York:20260513T190000
DTSTAMP:20260419T153946
CREATED:20260403T182429Z
LAST-MODIFIED:20260403T182429Z
UID:6776-1778695200-1778698800@saintmaroncleveland.org
SUMMARY:Divine Liturgy
DESCRIPTION:
URL:http://saintmaroncleveland.org/event/divine-liturgy-21/
LOCATION:St. Maron Chapel – Independence\, 7800 Brookside Rd\, Independence\, OH\, 44131\, United States
CATEGORIES:Divine Liturgy
END:VEVENT
BEGIN:VEVENT
DTSTART;TZID=America/New_York:20260513T180000
DTEND;TZID=America/New_York:20260513T220000
DTSTAMP:20260419T153946
CREATED:20260415T183247Z
LAST-MODIFIED:20260415T183611Z
UID:6888-1778695200-1778709600@saintmaroncleveland.org
SUMMARY:La Ville Lumière Fundraiser
DESCRIPTION:
URL:http://saintmaroncleveland.org/event/la-ville-lumiere-fundraiser-2/
LOCATION:La Ville Lumière\, 10427 Clifton Blvd\, Cleveland\, OH
CATEGORIES:Social
ATTACH;FMTTYPE=image/png:http://saintmaroncleveland.org/wp-content/uploads/2026/04/LVL-Fundraiser--scaled.png
END:VEVENT
BEGIN:VEVENT
DTSTART;VALUE=DATE:20260514
DTEND;VALUE=DATE:20260515
DTSTAMP:20260419T153946
CREATED:20260408T184313Z
LAST-MODIFIED:20260408T184313Z
UID:6855-1778716800-1778803199@saintmaroncleveland.org
SUMMARY:The Ascension of Our Lord
DESCRIPTION:
URL:http://saintmaroncleveland.org/event/the-ascension-of-our-lord/
LOCATION:Ohio
CATEGORIES:Feast Day
END:VEVENT
BEGIN:VEVENT
DTSTART;TZID=America/New_York:20260514T180000
DTEND;TZID=America/New_York:20260514T190000
DTSTAMP:20260419T153946
CREATED:20260403T182458Z
LAST-MODIFIED:20260403T182459Z
UID:6778-1778781600-1778785200@saintmaroncleveland.org
SUMMARY:Divine Liturgy
DESCRIPTION:
URL:http://saintmaroncleveland.org/event/divine-liturgy-22/
LOCATION:St. Maron Chapel – Independence\, 7800 Brookside Rd\, Independence\, OH\, 44131\, United States
CATEGORIES:Divine Liturgy
END:VEVENT
BEGIN:VEVENT
DTSTART;VALUE=DATE:20260515
DTEND;VALUE=DATE:20260516
DTSTAMP:20260419T153946
CREATED:20260408T182905Z
LAST-MODIFIED:20260408T182905Z
UID:6825-1778803200-1778889599@saintmaroncleveland.org
SUMMARY:Feast Day: Our Lady of the Harvest
DESCRIPTION:
URL:http://saintmaroncleveland.org/event/feast-day-our-lady-of-the-harvest/
LOCATION:Ohio
CATEGORIES:Feast Day
END:VEVENT
BEGIN:VEVENT
DTSTART;TZID=America/New_York:20260516T170000
DTEND;TZID=America/New_York:20260516T180000
DTSTAMP:20260419T153946
CREATED:20260408T184526Z
LAST-MODIFIED:20260408T184527Z
UID:6857-1778950800-1778954400@saintmaroncleveland.org
SUMMARY:Divine Liturgy: 7th Sunday of the Resurrection - Chapel
DESCRIPTION:
URL:http://saintmaroncleveland.org/event/divine-liturgy-7th-sunday-of-the-resurrection-chapel/
LOCATION:St. Maron Chapel – Independence\, 7800 Brookside Rd\, Independence\, OH\, 44131\, United States
CATEGORIES:Divine Liturgy
END:VEVENT
BEGIN:VEVENT
DTSTART;TZID=America/New_York:20260517T093000
DTEND;TZID=America/New_York:20260517T103000
DTSTAMP:20260419T153946
CREATED:20260408T184614Z
LAST-MODIFIED:20260408T184614Z
UID:6859-1779010200-1779013800@saintmaroncleveland.org
SUMMARY:Divine Liturgy: 7th Sunday of the Resurrection - Downtown
DESCRIPTION:
URL:http://saintmaroncleveland.org/event/divine-liturgy-7th-sunday-of-the-resurrection-downtown/
LOCATION:St. Maron Church Downtown\, 1245 Carnegie Ave\, Cleveland\, Ohio\, 44115
CATEGORIES:Divine Liturgy
END:VEVENT
BEGIN:VEVENT
DTSTART;TZID=America/New_York:20260517T100000
DTEND;TZID=America/New_York:20260517T140000
DTSTAMP:20260419T153946
CREATED:20260319T212755Z
LAST-MODIFIED:20260319T212805Z
UID:6738-1779012000-1779026400@saintmaroncleveland.org
SUMMARY:MYO: Breakfast Fundraiser
DESCRIPTION:
URL:http://saintmaroncleveland.org/event/myo-breakfast-funderaiser/
LOCATION:St. Maron Church Downtown\, 1245 Carnegie Ave\, Cleveland\, Ohio\, 44115
CATEGORIES:MYO
END:VEVENT
BEGIN:VEVENT
DTSTART;TZID=America/New_York:20260517T110000
DTEND;TZID=America/New_York:20260517T120000
DTSTAMP:20260419T153946
CREATED:20260408T184645Z
LAST-MODIFIED:20260408T184645Z
UID:6861-1779015600-1779019200@saintmaroncleveland.org
SUMMARY:Divine Liturgy: 7th Sunday of the Resurrection - Downtown
DESCRIPTION:
URL:http://saintmaroncleveland.org/event/divine-liturgy-7th-sunday-of-the-resurrection-downtown-2/
LOCATION:St. Maron Church Downtown\, 1245 Carnegie Ave\, Cleveland\, Ohio\, 44115
CATEGORIES:Divine Liturgy
END:VEVENT
BEGIN:VEVENT
DTSTART;TZID=America/New_York:20260519T180000
DTEND;TZID=America/New_York:20260519T190000
DTSTAMP:20260419T153946
CREATED:20260403T182547Z
LAST-MODIFIED:20260403T182547Z
UID:6780-1779213600-1779217200@saintmaroncleveland.org
SUMMARY:Divine Liturgy
DESCRIPTION:
URL:http://saintmaroncleveland.org/event/divine-liturgy-23/
LOCATION:St. Maron Chapel – Independence\, 7800 Brookside Rd\, Independence\, OH\, 44131\, United States
CATEGORIES:Divine Liturgy
END:VEVENT
BEGIN:VEVENT
DTSTART;TZID=America/New_York:20260520T180000
DTEND;TZID=America/New_York:20260520T190000
DTSTAMP:20260419T153946
CREATED:20260403T182625Z
LAST-MODIFIED:20260403T182625Z
UID:6782-1779300000-1779303600@saintmaroncleveland.org
SUMMARY:Divine Liturgy
DESCRIPTION:
URL:http://saintmaroncleveland.org/event/divine-liturgy-24/
LOCATION:St. Maron Chapel – Independence\, 7800 Brookside Rd\, Independence\, OH\, 44131\, United States
END:VEVENT
BEGIN:VEVENT
DTSTART;TZID=America/New_York:20260520T180000
DTEND;TZID=America/New_York:20260520T220000
DTSTAMP:20260419T153946
CREATED:20260415T190359Z
LAST-MODIFIED:20260415T190359Z
UID:6890-1779300000-1779314400@saintmaroncleveland.org
SUMMARY:La Ville Lumière Fundraiser
DESCRIPTION:
URL:http://saintmaroncleveland.org/event/la-ville-lumiere-fundraiser-3/
LOCATION:La Ville Lumière\, 10427 Clifton Blvd\, Cleveland\, OH
ATTACH;FMTTYPE=image/png:http://saintmaroncleveland.org/wp-content/uploads/2026/04/LVL-Fundraiser--scaled.png
END:VEVENT
BEGIN:VEVENT
DTSTART;VALUE=DATE:20260521
DTEND;VALUE=DATE:20260522
DTSTAMP:20260419T153946
CREATED:20260408T183016Z
LAST-MODIFIED:20260408T183016Z
UID:6829-1779321600-1779407999@saintmaroncleveland.org
SUMMARY:Feast Day: St. Constantine the Emperor and His Mother St. Helen
DESCRIPTION:
URL:http://saintmaroncleveland.org/event/feast-day-st-constantine-the-emperor-and-his-mother-st-helen/
LOCATION:Ohio
END:VEVENT
BEGIN:VEVENT
DTSTART;TZID=America/New_York:20260521T180000
DTEND;TZID=America/New_York:20260521T190000
DTSTAMP:20260419T153946
CREATED:20260403T182705Z
LAST-MODIFIED:20260403T182724Z
UID:6784-1779386400-1779390000@saintmaroncleveland.org
SUMMARY:Divine Liturgy
DESCRIPTION:
URL:http://saintmaroncleveland.org/event/6784/
LOCATION:St. Maron Chapel – Independence\, 7800 Brookside Rd\, Independence\, OH\, 44131\, United States
END:VEVENT
BEGIN:VEVENT
DTSTART;VALUE=DATE:20260522
DTEND;VALUE=DATE:20260523
DTSTAMP:20260419T153946
CREATED:20260408T183052Z
LAST-MODIFIED:20260408T183052Z
UID:6831-1779408000-1779494399@saintmaroncleveland.org
SUMMARY:Feast Day: St. Rita of Cascia
DESCRIPTION:
URL:http://saintmaroncleveland.org/event/feast-day-st-rita-of-cascia/
LOCATION:Ohio
CATEGORIES:Feast Day
END:VEVENT
END:VCALENDAR