BEGIN:VCALENDAR
VERSION:2.0
PRODID:-//Saint Maron Church - ECPv6.15.20//NONSGML v1.0//EN
CALSCALE:GREGORIAN
METHOD:PUBLISH
X-WR-CALNAME:Saint Maron Church
X-ORIGINAL-URL:http://saintmaroncleveland.org
X-WR-CALDESC:Events for Saint Maron Church
REFRESH-INTERVAL;VALUE=DURATION:PT1H
X-Robots-Tag:noindex
X-PUBLISHED-TTL:PT1H
BEGIN:VTIMEZONE
TZID:America/New_York
BEGIN:DAYLIGHT
TZOFFSETFROM:-0500
TZOFFSETTO:-0400
TZNAME:EDT
DTSTART:20240310T070000
END:DAYLIGHT
BEGIN:STANDARD
TZOFFSETFROM:-0400
TZOFFSETTO:-0500
TZNAME:EST
DTSTART:20241103T060000
END:STANDARD
BEGIN:DAYLIGHT
TZOFFSETFROM:-0500
TZOFFSETTO:-0400
TZNAME:EDT
DTSTART:20250309T070000
END:DAYLIGHT
BEGIN:STANDARD
TZOFFSETFROM:-0400
TZOFFSETTO:-0500
TZNAME:EST
DTSTART:20251102T060000
END:STANDARD
BEGIN:DAYLIGHT
TZOFFSETFROM:-0500
TZOFFSETTO:-0400
TZNAME:EDT
DTSTART:20260308T070000
END:DAYLIGHT
BEGIN:STANDARD
TZOFFSETFROM:-0400
TZOFFSETTO:-0500
TZNAME:EST
DTSTART:20261101T060000
END:STANDARD
END:VTIMEZONE
BEGIN:VEVENT
DTSTART;VALUE=DATE:20251101
DTEND;VALUE=DATE:20251102
DTSTAMP:20260422T232317
CREATED:20250908T202632Z
LAST-MODIFIED:20251007T154954Z
UID:5231-1761955200-1762041599@saintmaroncleveland.org
SUMMARY:Sts. Cosmas and Damian
DESCRIPTION:Feast Day
URL:http://saintmaroncleveland.org/event/sts-cosmas-and-damian/
CATEGORIES:Feast Day
END:VEVENT
BEGIN:VEVENT
DTSTART;TZID=America/New_York:20251030T180000
DTEND;TZID=America/New_York:20251030T180000
DTSTAMP:20260422T232317
CREATED:20250908T201736Z
LAST-MODIFIED:20250910T214113Z
UID:5148-1761847200-1761847200@saintmaroncleveland.org
SUMMARY:Divine Liturgy
DESCRIPTION:Location: Chapel – Independence
URL:http://saintmaroncleveland.org/event/divine-liturgy-54/
CATEGORIES:Divine Liturgy
END:VEVENT
BEGIN:VEVENT
DTSTART;TZID=America/New_York:20251029T180000
DTEND;TZID=America/New_York:20251029T180000
DTSTAMP:20260422T232317
CREATED:20250908T201721Z
LAST-MODIFIED:20250910T214051Z
UID:5147-1761760800-1761760800@saintmaroncleveland.org
SUMMARY:Divine Liturgy
DESCRIPTION:Location: Chapel – Independence
URL:http://saintmaroncleveland.org/event/divine-liturgy-53/
CATEGORIES:Divine Liturgy
END:VEVENT
BEGIN:VEVENT
DTSTART;TZID=America/New_York:20251028T180000
DTEND;TZID=America/New_York:20251028T180000
DTSTAMP:20260422T232317
CREATED:20250908T201720Z
LAST-MODIFIED:20250910T214038Z
UID:5146-1761674400-1761674400@saintmaroncleveland.org
SUMMARY:Divine Liturgy
DESCRIPTION:Location: Chapel – Independence
URL:http://saintmaroncleveland.org/event/divine-liturgy-52/
CATEGORIES:Divine Liturgy
END:VEVENT
BEGIN:VEVENT
DTSTART;TZID=America/New_York:20251026T183000
DTEND;TZID=America/New_York:20251026T193000
DTSTAMP:20260422T232317
CREATED:20251017T144446Z
LAST-MODIFIED:20251017T144508Z
UID:5979-1761503400-1761507000@saintmaroncleveland.org
SUMMARY:MYA Meeting
DESCRIPTION:Join us Sunday\, October 26 at 6:30 as Abouna Michael Shami discusses the scriptural roots of the Sanctification and Renewal of the Church
URL:http://saintmaroncleveland.org/event/mya-meeting/
CATEGORIES:Ministries & Events,MYA
END:VEVENT
BEGIN:VEVENT
DTSTART;TZID=America/New_York:20251026T110000
DTEND;TZID=America/New_York:20251026T120000
DTSTAMP:20260422T232317
CREATED:20250910T205254Z
LAST-MODIFIED:20251007T154927Z
UID:5604-1761476400-1761480000@saintmaroncleveland.org
SUMMARY:Sunday of Christ the King
DESCRIPTION:Location: Downtown
URL:http://saintmaroncleveland.org/event/sunday-of-christ-the-king-3/
CATEGORIES:Divine Liturgy
END:VEVENT
BEGIN:VEVENT
DTSTART;TZID=America/New_York:20251026T093000
DTEND;TZID=America/New_York:20251026T103000
DTSTAMP:20260422T232317
CREATED:20250910T205253Z
LAST-MODIFIED:20250910T205253Z
UID:5603-1761471000-1761474600@saintmaroncleveland.org
SUMMARY:Sunday of Christ the King
DESCRIPTION:Location: Downtown
URL:http://saintmaroncleveland.org/event/sunday-of-christ-the-king-2/
CATEGORIES:Divine Liturgy
END:VEVENT
BEGIN:VEVENT
DTSTART;TZID=America/New_York:20251025T170000
DTEND;TZID=America/New_York:20251025T210000
DTSTAMP:20260422T232317
CREATED:20250908T203002Z
LAST-MODIFIED:20251013T180550Z
UID:5262-1761411600-1761426000@saintmaroncleveland.org
SUMMARY:MYO Meeting: PJ & Movie Night
DESCRIPTION:5PM-9PM – PJ Movie Night\nLocation: Saint Maron Church\, Independence
URL:http://saintmaroncleveland.org/event/myo-meeting-8/
CATEGORIES:Ministries & Events,MYO
END:VEVENT
BEGIN:VEVENT
DTSTART;TZID=America/New_York:20251025T170000
DTEND;TZID=America/New_York:20251025T180000
DTSTAMP:20260422T232317
CREATED:20250910T205253Z
LAST-MODIFIED:20250910T205253Z
UID:5602-1761411600-1761415200@saintmaroncleveland.org
SUMMARY:Sunday of Christ the King
DESCRIPTION:Location: Chapel – Independence
URL:http://saintmaroncleveland.org/event/sunday-of-christ-the-king/
CATEGORIES:Divine Liturgy
END:VEVENT
BEGIN:VEVENT
DTSTART;TZID=America/New_York:20251024T180000
DTEND;TZID=America/New_York:20251024T190000
DTSTAMP:20260422T232317
CREATED:20251017T141712Z
LAST-MODIFIED:20251017T142543Z
UID:5974-1761328800-1761332400@saintmaroncleveland.org
SUMMARY:MSA: First Meeting
DESCRIPTION:We are starting a new group at St. Maron. Coming soon are the\n“Maronite Special Ambassadors (MSA).” \nWho are they? The “Special Ambassadors” will be open to any special needs youth\, young adults\, and their families. Their mission will \nbe to provide a spiritual venue for these individuals\, whereby they \nmay grow in their Christian faith in a supportive and safe environment\, AND whereby they are challenged to advance in their spiritual and earthly development. \nThis is a new concept that we hope to model here at our church and\nthen grow it to the point that we mentor other churches to do the\nsame. Our first meeting will be on Friday\, October 24 at 6 PM at the\nparish center. \nPlease see Abouna or Lisa Farah after liturgy if you have questions.
URL:http://saintmaroncleveland.org/event/msa-first-meeting/
CATEGORIES:Ministries & Events,MSA
END:VEVENT
BEGIN:VEVENT
DTSTART;TZID=America/New_York:20251023T190000
DTEND;TZID=America/New_York:20251023T200000
DTSTAMP:20260422T232317
CREATED:20250910T204919Z
LAST-MODIFIED:20251013T180247Z
UID:5570-1761246000-1761249600@saintmaroncleveland.org
SUMMARY:Book and Cine Club
DESCRIPTION:Book and Cine Club
URL:http://saintmaroncleveland.org/event/book-and-cine-club-2/
CATEGORIES:Book and Cine Club,Ministries & Events
END:VEVENT
BEGIN:VEVENT
DTSTART;TZID=America/New_York:20251023T180000
DTEND;TZID=America/New_York:20251023T180000
DTSTAMP:20260422T232317
CREATED:20250908T201720Z
LAST-MODIFIED:20250910T214002Z
UID:5145-1761242400-1761242400@saintmaroncleveland.org
SUMMARY:Divine Liturgy
DESCRIPTION:Location: Chapel – Independence
URL:http://saintmaroncleveland.org/event/divine-liturgy-51/
CATEGORIES:Divine Liturgy
END:VEVENT
BEGIN:VEVENT
DTSTART;VALUE=DATE:20251023
DTEND;VALUE=DATE:20251024
DTSTAMP:20260422T232317
CREATED:20250908T202632Z
LAST-MODIFIED:20251007T154835Z
UID:5230-1761177600-1761263999@saintmaroncleveland.org
SUMMARY:St. Ignatius\, Patriarch
DESCRIPTION:Feast Day
URL:http://saintmaroncleveland.org/event/st-ignatius-patriarch/
CATEGORIES:Feast Day
END:VEVENT
BEGIN:VEVENT
DTSTART;TZID=America/New_York:20251022T183000
DTEND;TZID=America/New_York:20251022T203000
DTSTAMP:20260422T232317
CREATED:20250910T205245Z
LAST-MODIFIED:20250910T205245Z
UID:5601-1761157800-1761165000@saintmaroncleveland.org
SUMMARY:St. Sharbel Liturgy
DESCRIPTION:Rosary – 6:30PM  and Divine Liturgy  – 7:00PM
URL:http://saintmaroncleveland.org/event/st-sharbel-liturgy-2/
CATEGORIES:Divine Liturgy
END:VEVENT
BEGIN:VEVENT
DTSTART;TZID=America/New_York:20251021T180000
DTEND;TZID=America/New_York:20251021T180000
DTSTAMP:20260422T232317
CREATED:20250908T201720Z
LAST-MODIFIED:20250910T214025Z
UID:5143-1761069600-1761069600@saintmaroncleveland.org
SUMMARY:Divine Liturgy
DESCRIPTION:Location: Chapel – Independence
URL:http://saintmaroncleveland.org/event/divine-liturgy-49/
CATEGORIES:Divine Liturgy
END:VEVENT
BEGIN:VEVENT
DTSTART;VALUE=DATE:20251020
DTEND;VALUE=DATE:20251021
DTSTAMP:20260422T232317
CREATED:20250908T202631Z
LAST-MODIFIED:20251007T154811Z
UID:5229-1760918400-1761004799@saintmaroncleveland.org
SUMMARY:St. Shallita
DESCRIPTION:Feast Day
URL:http://saintmaroncleveland.org/event/st-shallita/
CATEGORIES:Feast Day
END:VEVENT
BEGIN:VEVENT
DTSTART;TZID=America/New_York:20251019T110000
DTEND;TZID=America/New_York:20251019T120000
DTSTAMP:20260422T232317
CREATED:20250910T205244Z
LAST-MODIFIED:20250910T205244Z
UID:5600-1760871600-1760875200@saintmaroncleveland.org
SUMMARY:5th Sunday after Holy Cross
DESCRIPTION:Location: Downtown
URL:http://saintmaroncleveland.org/event/5th-sunday-after-holy-cross-3/
CATEGORIES:Divine Liturgy
END:VEVENT
BEGIN:VEVENT
DTSTART;TZID=America/New_York:20251019T093000
DTEND;TZID=America/New_York:20251019T103000
DTSTAMP:20260422T232317
CREATED:20250910T205244Z
LAST-MODIFIED:20250910T205244Z
UID:5599-1760866200-1760869800@saintmaroncleveland.org
SUMMARY:5th Sunday after Holy Cross
DESCRIPTION:Location: Downtown
URL:http://saintmaroncleveland.org/event/5th-sunday-after-holy-cross-2/
CATEGORIES:Divine Liturgy
END:VEVENT
BEGIN:VEVENT
DTSTART;TZID=America/New_York:20251018T170000
DTEND;TZID=America/New_York:20251018T180000
DTSTAMP:20260422T232317
CREATED:20250910T205244Z
LAST-MODIFIED:20250910T205244Z
UID:5598-1760806800-1760810400@saintmaroncleveland.org
SUMMARY:5th Sunday after Holy Cross
DESCRIPTION:Location: Chapel – Independence
URL:http://saintmaroncleveland.org/event/5th-sunday-after-holy-cross/
CATEGORIES:Divine Liturgy
END:VEVENT
BEGIN:VEVENT
DTSTART;TZID=America/New_York:20251018T133000
DTEND;TZID=America/New_York:20251018T180000
DTSTAMP:20260422T232317
CREATED:20250908T202958Z
LAST-MODIFIED:20251013T180638Z
UID:5257-1760794200-1760810400@saintmaroncleveland.org
SUMMARY:MYO Meeting: Service Activity
DESCRIPTION:1:30-6:00PM – MYO Meeting\, Service Event\nLocation: Saint Maron Church\, Independence
URL:http://saintmaroncleveland.org/event/myo-meeting-3/
CATEGORIES:Ministries & Events,MYO
END:VEVENT
BEGIN:VEVENT
DTSTART;VALUE=DATE:20251018
DTEND;VALUE=DATE:20251019
DTSTAMP:20260422T232317
CREATED:20250908T202631Z
LAST-MODIFIED:20251007T154744Z
UID:5228-1760745600-1760831999@saintmaroncleveland.org
SUMMARY:St. Luke the Evangelist
DESCRIPTION:Feast Day
URL:http://saintmaroncleveland.org/event/st-luke-the-evangelist/
CATEGORIES:Feast Day
END:VEVENT
BEGIN:VEVENT
DTSTART;TZID=America/New_York:20251016T180000
DTEND;TZID=America/New_York:20251016T180000
DTSTAMP:20260422T232317
CREATED:20250908T201647Z
LAST-MODIFIED:20250910T213949Z
UID:5142-1760637600-1760637600@saintmaroncleveland.org
SUMMARY:Divine Liturgy
DESCRIPTION:Location: Chapel – Independence
URL:http://saintmaroncleveland.org/event/divine-liturgy-48/
CATEGORIES:Divine Liturgy
END:VEVENT
BEGIN:VEVENT
DTSTART;TZID=America/New_York:20251015T180000
DTEND;TZID=America/New_York:20251015T180000
DTSTAMP:20260422T232317
CREATED:20250908T201647Z
LAST-MODIFIED:20250910T213936Z
UID:5141-1760551200-1760551200@saintmaroncleveland.org
SUMMARY:Divine Liturgy
DESCRIPTION:Location: Chapel – Independence
URL:http://saintmaroncleveland.org/event/divine-liturgy-47/
CATEGORIES:Divine Liturgy
END:VEVENT
BEGIN:VEVENT
DTSTART;VALUE=DATE:20251015
DTEND;VALUE=DATE:20251016
DTSTAMP:20260422T232317
CREATED:20250908T202623Z
LAST-MODIFIED:20251013T175908Z
UID:5227-1760486400-1760572799@saintmaroncleveland.org
SUMMARY:St. Teresa of Avila
DESCRIPTION:Feast Day
URL:http://saintmaroncleveland.org/event/st-teresa-of-avila/
CATEGORIES:Feast Day
END:VEVENT
BEGIN:VEVENT
DTSTART;TZID=America/New_York:20251014T180000
DTEND;TZID=America/New_York:20251014T180000
DTSTAMP:20260422T232317
CREATED:20250908T201646Z
LAST-MODIFIED:20250910T213925Z
UID:5140-1760464800-1760464800@saintmaroncleveland.org
SUMMARY:Divine Liturgy
DESCRIPTION:Location: Chapel – Independence
URL:http://saintmaroncleveland.org/event/divine-liturgy-46/
CATEGORIES:Divine Liturgy
END:VEVENT
BEGIN:VEVENT
DTSTART;VALUE=DATE:20251013
DTEND;VALUE=DATE:20251014
DTSTAMP:20260422T232317
CREATED:20250908T202623Z
LAST-MODIFIED:20251013T175458Z
UID:5226-1760313600-1760399999@saintmaroncleveland.org
SUMMARY:Columbus Day
DESCRIPTION:Holiday
URL:http://saintmaroncleveland.org/event/columbus-day/
CATEGORIES:Holiday
END:VEVENT
BEGIN:VEVENT
DTSTART;TZID=America/New_York:20251012T110000
DTEND;TZID=America/New_York:20251012T120000
DTSTAMP:20260422T232317
CREATED:20250910T205239Z
LAST-MODIFIED:20250910T205239Z
UID:5597-1760266800-1760270400@saintmaroncleveland.org
SUMMARY:4th Sunday after Holy Cross
DESCRIPTION:Location: Downtown
URL:http://saintmaroncleveland.org/event/4th-sunday-after-holy-cross-3/
CATEGORIES:Divine Liturgy
END:VEVENT
BEGIN:VEVENT
DTSTART;TZID=America/New_York:20251012T093000
DTEND;TZID=America/New_York:20251012T103000
DTSTAMP:20260422T232317
CREATED:20250910T205238Z
LAST-MODIFIED:20250910T205238Z
UID:5596-1760261400-1760265000@saintmaroncleveland.org
SUMMARY:4th Sunday after Holy Cross
DESCRIPTION:Location: Downtown
URL:http://saintmaroncleveland.org/event/4th-sunday-after-holy-cross-2/
CATEGORIES:Divine Liturgy
END:VEVENT
BEGIN:VEVENT
DTSTART;TZID=America/New_York:20251011T170000
DTEND;TZID=America/New_York:20251011T180000
DTSTAMP:20260422T232317
CREATED:20250910T205227Z
LAST-MODIFIED:20250910T205227Z
UID:5595-1760202000-1760205600@saintmaroncleveland.org
SUMMARY:4th Sunday after Holy Cross
DESCRIPTION:Location: Chapel – Independence
URL:http://saintmaroncleveland.org/event/4th-sunday-after-holy-cross/
CATEGORIES:Divine Liturgy
END:VEVENT
BEGIN:VEVENT
DTSTART;TZID=America/New_York:20251011T143000
DTEND;TZID=America/New_York:20251011T163000
DTSTAMP:20260422T232317
CREATED:20250910T204919Z
LAST-MODIFIED:20251006T193613Z
UID:5569-1760193000-1760200200@saintmaroncleveland.org
SUMMARY:Fall Fest - MYC
DESCRIPTION:Location: Parish Center (Independence) \nTime: 2:30 p.m. – 4:30 p.m. \nLiturgy to follow \nPlease bring a dish to share \nCostume are welcome to be worn
URL:http://saintmaroncleveland.org/event/fall-fest-mmc/
CATEGORIES:Maronite Young Children,Ministries & Events
END:VEVENT
END:VCALENDAR